BEGIN:VCALENDAR
VERSION:2.0
PRODID:-//theatre de la terre - ECPv6.15.20//NONSGML v1.0//EN
CALSCALE:GREGORIAN
METHOD:PUBLISH
X-WR-CALNAME:theatre de la terre
X-ORIGINAL-URL:https://theatredelaterre.org
X-WR-CALDESC:Évènements pour theatre de la terre
REFRESH-INTERVAL;VALUE=DURATION:PT1H
X-Robots-Tag:noindex
X-PUBLISHED-TTL:PT1H
BEGIN:VTIMEZONE
TZID:Europe/Paris
BEGIN:DAYLIGHT
TZOFFSETFROM:+0100
TZOFFSETTO:+0200
TZNAME:CEST
DTSTART:20250330T010000
END:DAYLIGHT
BEGIN:STANDARD
TZOFFSETFROM:+0200
TZOFFSETTO:+0100
TZNAME:CET
DTSTART:20251026T010000
END:STANDARD
BEGIN:DAYLIGHT
TZOFFSETFROM:+0100
TZOFFSETTO:+0200
TZNAME:CEST
DTSTART:20260329T010000
END:DAYLIGHT
BEGIN:STANDARD
TZOFFSETFROM:+0200
TZOFFSETTO:+0100
TZNAME:CET
DTSTART:20261025T010000
END:STANDARD
BEGIN:DAYLIGHT
TZOFFSETFROM:+0100
TZOFFSETTO:+0200
TZNAME:CEST
DTSTART:20270328T010000
END:DAYLIGHT
BEGIN:STANDARD
TZOFFSETFROM:+0200
TZOFFSETTO:+0100
TZNAME:CET
DTSTART:20271031T010000
END:STANDARD
END:VTIMEZONE
BEGIN:VEVENT
DTSTART;TZID=Europe/Paris:20260421T094500
DTEND;TZID=Europe/Paris:20260421T103000
DTSTAMP:20260421T014155
CREATED:20260223T120338Z
LAST-MODIFIED:20260223T120416Z
UID:9043-1776764700-1776767400@theatredelaterre.org
SUMMARY:Rien ne se perd
DESCRIPTION: FOYER RURAL GRENADE\n Le 21 avril 2026\, de 10h45 à 11h30 \n\nA partir de 3 ans Mamie récup’ déteste le gaspillage ! Chez elle « rien ne se perd\, tout se transforme ! Aujourd’hui est un grand jour\, elle revient de son périple. Elle a visité des déchetteries\, des recycleries et même… vos poubelles. \n\n\n\nDe ce grand voyage\, elle rapporte des trésors et elle a une idée derrière la tête… \nElle veut fabriquer des amis pour « Hervé »\, un personnage solitaire qu’elle a adopté il y a déjà plusieurs années… Mais Hervé\, une marionnette créée à partir d’objets recyclés\, est d’un naturel grognon. Va t’il apprécier ces nouveaux ami.e.s (la râpe peureuse\, la chaussette triste et l’assiette timide) tout droit sortis \ndes poubelles ? \nRien n’est moins sûr … \nPour réserver c’est ici!
URL:https://theatredelaterre.org/actualite/rien-ne-se-perd-21/
LOCATION:foyer rural de Grenade\, 26A Rue Victor Hugo\, Grenade\, 31330\, France
CATEGORIES:rien ne se perd
ATTACH;FMTTYPE=image/jpeg:https://theatredelaterre.org/wp-content/uploads/2025/11/rien-ne-se-perd-spectacle_noel.jpg
END:VEVENT
END:VCALENDAR