BEGIN:VCALENDAR
VERSION:2.0
PRODID:-//theatre de la terre - ECPv6.15.20//NONSGML v1.0//EN
CALSCALE:GREGORIAN
METHOD:PUBLISH
X-WR-CALNAME:theatre de la terre
X-ORIGINAL-URL:https://theatredelaterre.org
X-WR-CALDESC:Évènements pour theatre de la terre
REFRESH-INTERVAL;VALUE=DURATION:PT1H
X-Robots-Tag:noindex
X-PUBLISHED-TTL:PT1H
BEGIN:VTIMEZONE
TZID:Europe/Paris
BEGIN:DAYLIGHT
TZOFFSETFROM:+0100
TZOFFSETTO:+0200
TZNAME:CEST
DTSTART:20250330T010000
END:DAYLIGHT
BEGIN:STANDARD
TZOFFSETFROM:+0200
TZOFFSETTO:+0100
TZNAME:CET
DTSTART:20251026T010000
END:STANDARD
BEGIN:DAYLIGHT
TZOFFSETFROM:+0100
TZOFFSETTO:+0200
TZNAME:CEST
DTSTART:20260329T010000
END:DAYLIGHT
BEGIN:STANDARD
TZOFFSETFROM:+0200
TZOFFSETTO:+0100
TZNAME:CET
DTSTART:20261025T010000
END:STANDARD
BEGIN:DAYLIGHT
TZOFFSETFROM:+0100
TZOFFSETTO:+0200
TZNAME:CEST
DTSTART:20270328T010000
END:DAYLIGHT
BEGIN:STANDARD
TZOFFSETFROM:+0200
TZOFFSETTO:+0100
TZNAME:CET
DTSTART:20271031T010000
END:STANDARD
END:VTIMEZONE
BEGIN:VEVENT
DTSTART;TZID=Europe/Paris:20260423T140000
DTEND;TZID=Europe/Paris:20260423T140000
DTSTAMP:20260423T015850
CREATED:20260421T133855Z
LAST-MODIFIED:20260421T133855Z
UID:9121-1776952800-1776952800@theatredelaterre.org
SUMMARY:Peccadille cherche les artistes
DESCRIPTION:Avec : Sylvie Koutsikidès \nMise en scène:  Capucine Dujardin et Sylvie Koutsikidès\, comédienne\, metteur en scène\, éduc’actrice \nPeccadille débarque avec sa grosse valise au milieu des enfants. Elle attend le début du spectacle avec eux mais personne ne vient…\nMais que font les artistes ?\nLes loges sont vides… Ils ne viendront plus… Encouragée par les enfants Peccadille va assurer elle-même le spectacle… Elle se souvient d’une très vieille histoire racontée par son grand-père « Comment les couleurs vinrent aux oiseaux ». Mais Peccadille à besoin de l’aide de son public…\nCe spectacle interactif\, s’appuie sur ce qui se passe dans la salle et se construit donc au fur et à mesure improvisé avec le public  autour d’un conte traditionnel. \nplus d’infos ici  \nbande annonce là
URL:https://theatredelaterre.org/actualite/peccadille-cherche-les-artistes-6/
LOCATION:cinema de revel\, 38 Rue Georges Sabo\,\, Revel\, haute garonne\, 31250\, France
CATEGORIES:pecadille cherche artiste,spectacles
ATTACH;FMTTYPE=image/jpeg:https://theatredelaterre.org/wp-content/uploads/2020/08/pecadille-cherche-agenda.jpg
END:VEVENT
END:VCALENDAR