BEGIN:VCALENDAR
VERSION:2.0
PRODID:-//theatre de la terre - ECPv6.15.20//NONSGML v1.0//EN
CALSCALE:GREGORIAN
METHOD:PUBLISH
X-ORIGINAL-URL:https://theatredelaterre.org
X-WR-CALDESC:Évènements pour theatre de la terre
REFRESH-INTERVAL;VALUE=DURATION:PT1H
X-Robots-Tag:noindex
X-PUBLISHED-TTL:PT1H
BEGIN:VTIMEZONE
TZID:Europe/Paris
BEGIN:DAYLIGHT
TZOFFSETFROM:+0100
TZOFFSETTO:+0200
TZNAME:CEST
DTSTART:20250330T010000
END:DAYLIGHT
BEGIN:STANDARD
TZOFFSETFROM:+0200
TZOFFSETTO:+0100
TZNAME:CET
DTSTART:20251026T010000
END:STANDARD
BEGIN:DAYLIGHT
TZOFFSETFROM:+0100
TZOFFSETTO:+0200
TZNAME:CEST
DTSTART:20260329T010000
END:DAYLIGHT
BEGIN:STANDARD
TZOFFSETFROM:+0200
TZOFFSETTO:+0100
TZNAME:CET
DTSTART:20261025T010000
END:STANDARD
BEGIN:DAYLIGHT
TZOFFSETFROM:+0100
TZOFFSETTO:+0200
TZNAME:CEST
DTSTART:20270328T010000
END:DAYLIGHT
BEGIN:STANDARD
TZOFFSETFROM:+0200
TZOFFSETTO:+0100
TZNAME:CET
DTSTART:20271031T010000
END:STANDARD
END:VTIMEZONE
BEGIN:VEVENT
DTSTART;VALUE=DATE:20260626
DTEND;VALUE=DATE:20260627
DTSTAMP:20260424T140226
CREATED:20260420T104721Z
LAST-MODIFIED:20260420T105100Z
UID:9110-1782432000-1782518399@theatredelaterre.org
SUMMARY:Rien ne se perd
DESCRIPTION:Représentation scolaire pour le SIVE de la vallée de l’Hers. \nspectacle familial – Théâtre burlesque et marionnettes \nMamie récup’ déteste le gaspillage ! Chez elle « rien ne se perd\, tout se transforme !\nAujourd’hui est un grand jour\, elle revient de son périple.\nElle a visité des déchetteries\, des recycleries et même… vos poubelles.\nDe ce grand voyage\, elle rapporte des trésors et elle a une idée derrière la tête…\nElle veut fabriquer des amis pour « Hervé »\, un personnage solitaire qu’elle a adopté il y a déjà plusieurs années…\nMais Hervé\, une marionnette créée à partir d’objets recyclés\, est d’un naturel grognon.\nVa t’il apprécier ces nouveaux ami.e.s (la rappe peureuse\, la chaussette triste et l’assiette timide)tout droit sortis\ndes poubelles ?\nRien n’est moins sûr …
URL:https://theatredelaterre.org/actualite/rien-ne-se-perd-24/
CATEGORIES:rien ne se perd,spectacles privés
ATTACH;FMTTYPE=image/jpeg:https://theatredelaterre.org/wp-content/uploads/2026/04/affiche-RNSP-avec-marionnettes_redimenssionnee.jpg
END:VEVENT
END:VCALENDAR