BEGIN:VCALENDAR
VERSION:2.0
PRODID:-//theatre de la terre - ECPv6.15.20//NONSGML v1.0//EN
CALSCALE:GREGORIAN
METHOD:PUBLISH
X-ORIGINAL-URL:https://theatredelaterre.org
X-WR-CALDESC:Évènements pour theatre de la terre
REFRESH-INTERVAL;VALUE=DURATION:PT1H
X-Robots-Tag:noindex
X-PUBLISHED-TTL:PT1H
BEGIN:VTIMEZONE
TZID:Europe/Paris
BEGIN:DAYLIGHT
TZOFFSETFROM:+0100
TZOFFSETTO:+0200
TZNAME:CEST
DTSTART:20240331T010000
END:DAYLIGHT
BEGIN:STANDARD
TZOFFSETFROM:+0200
TZOFFSETTO:+0100
TZNAME:CET
DTSTART:20241027T010000
END:STANDARD
BEGIN:DAYLIGHT
TZOFFSETFROM:+0100
TZOFFSETTO:+0200
TZNAME:CEST
DTSTART:20250330T010000
END:DAYLIGHT
BEGIN:STANDARD
TZOFFSETFROM:+0200
TZOFFSETTO:+0100
TZNAME:CET
DTSTART:20251026T010000
END:STANDARD
BEGIN:DAYLIGHT
TZOFFSETFROM:+0100
TZOFFSETTO:+0200
TZNAME:CEST
DTSTART:20260329T010000
END:DAYLIGHT
BEGIN:STANDARD
TZOFFSETFROM:+0200
TZOFFSETTO:+0100
TZNAME:CET
DTSTART:20261025T010000
END:STANDARD
END:VTIMEZONE
BEGIN:VEVENT
DTSTART;TZID=Europe/Paris:20250920T080000
DTEND;TZID=Europe/Paris:20250920T170000
DTSTAMP:20260424T181409
CREATED:20250815T100030Z
LAST-MODIFIED:20250821T120123Z
UID:8712-1758355200-1758387600@theatredelaterre.org
SUMMARY:Rien ne se perd
DESCRIPTION:Solo clownesque et marionnettique\nThèmes: Recyclage\, obsolescence et transmission \n\n\n\n\n\n\n\n\n\n\n\n\n\n\n\n\n\n\n\n\nDe et par Eloïse Bourscheidt \nCIE Théâtre de la Terre \nTout public\nà partir de 3 ans \nDurée 45 min
URL:https://theatredelaterre.org/actualite/rien-ne-se-perd-spectacle-prive/
LOCATION:Busque
CATEGORIES:rien ne se perd,spectacles privés
ATTACH;FMTTYPE=image/jpeg:https://theatredelaterre.org/wp-content/uploads/2024/05/rien-ne-se-perd-spectacle.jpg
END:VEVENT
BEGIN:VEVENT
DTSTART;TZID=Europe/Paris:20250924T080000
DTEND;TZID=Europe/Paris:20250924T170000
DTSTAMP:20260424T181409
CREATED:20250815T101721Z
LAST-MODIFIED:20250821T134851Z
UID:8719-1758700800-1758733200@theatredelaterre.org
SUMMARY:Rien ne se perd\,
DESCRIPTION:Solo clownesque et marionnettique\nThèmes: Recyclage\, obsolescence et transmission \n\n\n\n\n\n\n\n\n\n\n\n\n\n\n\n\n\n\n\n\nDe et par Eloïse Bourscheidt \nCIE Théâtre de la Terre \nTout public\nà partir de 3 ans \nDurée 45 min
URL:https://theatredelaterre.org/actualite/rien-ne-se-perd-representation-scolaire-a-seix/
LOCATION:Seix\, Seix\, ariege\, 09140
CATEGORIES:rien ne se perd
ATTACH;FMTTYPE=image/jpeg:https://theatredelaterre.org/wp-content/uploads/2024/05/rien-ne-se-perd-spectacle.jpg
END:VEVENT
END:VCALENDAR