BEGIN:VCALENDAR
VERSION:2.0
PRODID:-//theatre de la terre - ECPv6.15.20//NONSGML v1.0//EN
CALSCALE:GREGORIAN
METHOD:PUBLISH
X-WR-CALNAME:theatre de la terre
X-ORIGINAL-URL:https://theatredelaterre.org
X-WR-CALDESC:Évènements pour theatre de la terre
REFRESH-INTERVAL;VALUE=DURATION:PT1H
X-Robots-Tag:noindex
X-PUBLISHED-TTL:PT1H
BEGIN:VTIMEZONE
TZID:Europe/Paris
BEGIN:DAYLIGHT
TZOFFSETFROM:+0100
TZOFFSETTO:+0200
TZNAME:CEST
DTSTART:20240331T010000
END:DAYLIGHT
BEGIN:STANDARD
TZOFFSETFROM:+0200
TZOFFSETTO:+0100
TZNAME:CET
DTSTART:20241027T010000
END:STANDARD
BEGIN:DAYLIGHT
TZOFFSETFROM:+0100
TZOFFSETTO:+0200
TZNAME:CEST
DTSTART:20250330T010000
END:DAYLIGHT
BEGIN:STANDARD
TZOFFSETFROM:+0200
TZOFFSETTO:+0100
TZNAME:CET
DTSTART:20251026T010000
END:STANDARD
BEGIN:DAYLIGHT
TZOFFSETFROM:+0100
TZOFFSETTO:+0200
TZNAME:CEST
DTSTART:20260329T010000
END:DAYLIGHT
BEGIN:STANDARD
TZOFFSETFROM:+0200
TZOFFSETTO:+0100
TZNAME:CET
DTSTART:20261025T010000
END:STANDARD
END:VTIMEZONE
BEGIN:VEVENT
DTSTART;TZID=Europe/Paris:20251028T103000
DTEND;TZID=Europe/Paris:20251101T153000
DTSTAMP:20260424T164155
CREATED:20250815T102522Z
LAST-MODIFIED:20250826T170217Z
UID:8722-1761647400-1762011000@theatredelaterre.org
SUMMARY:Rien ne se perd
DESCRIPTION:10h30 et 15h30 du mardi 28 OCTOBRE  au samedi 1er NOVEMBRE \n7 euros la place \nPour les réservations c’est ici \n  \nSolo clownesque et marionnettique\nThèmes: Recyclage\, obsolescence et transmission \n\n\n\n\n\n\n\n\n\n\n\n\nMamie récup’ déteste le gaspillage ! Chez elle « rien ne se perd\, tout se transforme !\nAujourd’hui est un grand jour\, elle revient de son périple.\nElle a visité des déchetteries\, des recycleries et même… vos poubelles.\nDe ce grand voyage\, elle rapporte des trésors et elle a une idée derrière la tête…\n\n\n\n\n\nDe et par Eloïse Bourscheidt \nTout public\nà partir de 3 ans \nDurée 45 min \nplus d’infos sur le spectacle ici
URL:https://theatredelaterre.org/actualite/rien-ne-se-perd-au-theatre-du-chien-blanc/
LOCATION:Théatre du Chien Blanc\, 26 Rue du Général Jean Compans\, Toulouse\, 31500
CATEGORIES:rien ne se perd,spectacles
ATTACH;FMTTYPE=image/jpeg:https://theatredelaterre.org/wp-content/uploads/2024/05/rien-ne-se-perd-spectacle.jpg
END:VEVENT
END:VCALENDAR