BEGIN:VCALENDAR
VERSION:2.0
PRODID:-//theatre de la terre - ECPv6.15.20//NONSGML v1.0//EN
CALSCALE:GREGORIAN
METHOD:PUBLISH
X-WR-CALNAME:theatre de la terre
X-ORIGINAL-URL:https://theatredelaterre.org
X-WR-CALDESC:Évènements pour theatre de la terre
REFRESH-INTERVAL;VALUE=DURATION:PT1H
X-Robots-Tag:noindex
X-PUBLISHED-TTL:PT1H
BEGIN:VTIMEZONE
TZID:Europe/Paris
BEGIN:DAYLIGHT
TZOFFSETFROM:+0100
TZOFFSETTO:+0200
TZNAME:CEST
DTSTART:20240331T010000
END:DAYLIGHT
BEGIN:STANDARD
TZOFFSETFROM:+0200
TZOFFSETTO:+0100
TZNAME:CET
DTSTART:20241027T010000
END:STANDARD
BEGIN:DAYLIGHT
TZOFFSETFROM:+0100
TZOFFSETTO:+0200
TZNAME:CEST
DTSTART:20250330T010000
END:DAYLIGHT
BEGIN:STANDARD
TZOFFSETFROM:+0200
TZOFFSETTO:+0100
TZNAME:CET
DTSTART:20251026T010000
END:STANDARD
BEGIN:DAYLIGHT
TZOFFSETFROM:+0100
TZOFFSETTO:+0200
TZNAME:CEST
DTSTART:20260329T010000
END:DAYLIGHT
BEGIN:STANDARD
TZOFFSETFROM:+0200
TZOFFSETTO:+0100
TZNAME:CET
DTSTART:20261025T010000
END:STANDARD
END:VTIMEZONE
BEGIN:VEVENT
DTSTART;TZID=Europe/Paris:20251129T163000
DTEND;TZID=Europe/Paris:20251129T173000
DTSTAMP:20260424T164008
CREATED:20251021T081719Z
LAST-MODIFIED:20251021T081719Z
UID:8861-1764433800-1764437400@theatredelaterre.org
SUMMARY:Rien ne se perd
DESCRIPTION:Solo clownesque et marionnettique\nThèmes: Recyclage\, obsolescence et transmission \n\n\n\n\n\nDans le cadre du dispositif « Par ci par là ».\n Rien ne se perd à la médiathèque  « Les Cabannes » à 16h30.\n\nDe et par Eloïse Bourscheidt\n\n\n\n\nCIE Théâtre de la Terre \nTout public\nà partir de 3 ans \nDurée 45 min \n\n\n\n\n\n\nMamie récup’ déteste le gaspillage ! Chez elle « rien ne se perd\, tout se transforme !\nAujourd’hui est un grand jour\, elle revient de son périple.\nElle a visité des déchetteries\, des recycleries et même… vos poubelles.\nDe ce grand voyage\, elle rapporte des trésors et elle a une idée derrière la tête…\nElle veut fabriquer des amis pour « Hervé »\, un personnage solitaire qu’elle a adopté il y a déjà plusieurs années…\nMais Hervé\, une marionnette créée à partir d’objets recyclés\, est d’un naturel grognon.\nVa t’il apprécier ces nouveaux ami.e.s (la rappe peureuse\, la chaussette triste et l’assiette timide)tout droit sorti.e.s\ndes poubelles ?\nRien n’est moins sûr … \n\nplus d’info sur l’évènement ici \nRéservations nécessaires au 05 61 03 13 35
URL:https://theatredelaterre.org/actualite/rien-ne-se-perd-19/
LOCATION:médiathèque Les Cabannes\, 7 Rue Principale\, Les Cabannes\, 09310
CATEGORIES:rien ne se perd,spectacles
ATTACH;FMTTYPE=image/jpeg:https://theatredelaterre.org/wp-content/uploads/2024/05/rien-ne-se-perd-spectacle.jpg
END:VEVENT
END:VCALENDAR