BEGIN:VCALENDAR
VERSION:2.0
PRODID:-//theatre de la terre - ECPv6.15.20//NONSGML v1.0//EN
CALSCALE:GREGORIAN
METHOD:PUBLISH
X-ORIGINAL-URL:https://theatredelaterre.org
X-WR-CALDESC:Évènements pour theatre de la terre
REFRESH-INTERVAL;VALUE=DURATION:PT1H
X-Robots-Tag:noindex
X-PUBLISHED-TTL:PT1H
BEGIN:VTIMEZONE
TZID:Europe/Paris
BEGIN:DAYLIGHT
TZOFFSETFROM:+0100
TZOFFSETTO:+0200
TZNAME:CEST
DTSTART:20250330T010000
END:DAYLIGHT
BEGIN:STANDARD
TZOFFSETFROM:+0200
TZOFFSETTO:+0100
TZNAME:CET
DTSTART:20251026T010000
END:STANDARD
BEGIN:DAYLIGHT
TZOFFSETFROM:+0100
TZOFFSETTO:+0200
TZNAME:CEST
DTSTART:20260329T010000
END:DAYLIGHT
BEGIN:STANDARD
TZOFFSETFROM:+0200
TZOFFSETTO:+0100
TZNAME:CET
DTSTART:20261025T010000
END:STANDARD
BEGIN:DAYLIGHT
TZOFFSETFROM:+0100
TZOFFSETTO:+0200
TZNAME:CEST
DTSTART:20270328T010000
END:DAYLIGHT
BEGIN:STANDARD
TZOFFSETFROM:+0200
TZOFFSETTO:+0100
TZNAME:CET
DTSTART:20271031T010000
END:STANDARD
END:VTIMEZONE
BEGIN:VEVENT
DTSTART;TZID=Europe/Paris:20260501T100000
DTEND;TZID=Europe/Paris:20260503T170000
DTSTAMP:20260424T134909
CREATED:20260421T132733Z
LAST-MODIFIED:20260421T135428Z
UID:9117-1777629600-1777827600@theatredelaterre.org
SUMMARY:Stage clown et nature
DESCRIPTION:Clown et nature\n1/2/3 mai 26\nObjectif\nGrâce à une immersion dans la nature\, les personnages-clowns en contact avec\, l’eau\, le vent\, les arbres\, les prairies auront une source infinie d’inspiration.\nContenu\nNous travaillerons essentiellement dehors. A travers jeux et impros nous utiliserons les différentes pistes qu’offre la nature. Nous aborderons aussi les premières contraintes du jeu en extérieur . Enfin nous travaillerons sur l’identité du clown\nPour qui\nAvoir déjà une petite expérience du clown. 2 places découvertes\nOù\nsalle de pratique de Jouty. Lieu dit « Jouty ». 09120 Montégut-Pl\nDates et Horaires\nDu vendredi 1 er mai  10h au dimanche 3 mai 17h\nEn pratique\nStage avec Hébergement. repas confectionnés ensemble avec ce que chacun apportera.\nPrévoir : duvet\, drap\, oreiller…\ntenue confortable\, double chaussette.\nPrévoir son costume de clown+ nez rouge \, chaussures extérieures fermées \nCoût :\n110€ à 150€ Hébergement compris + 12 € adhésion. (A Chacun de se situer sur la fourchette de prix) \nplus d’infos ici 
URL:https://theatredelaterre.org/actualite/stage-clown-et-nature-3/
LOCATION:Salle de pratique de Jouty\, lieux dit "Jouty "\, Montégut Plantaurel\, 09120\, France
CATEGORIES:clown,Stage
ATTACH;FMTTYPE=image/jpeg:https://theatredelaterre.org/wp-content/uploads/2018/01/clownetnature2.jpg
END:VEVENT
END:VCALENDAR