BEGIN:VCALENDAR
VERSION:2.0
PRODID:-//theatre de la terre - ECPv6.15.20//NONSGML v1.0//EN
CALSCALE:GREGORIAN
METHOD:PUBLISH
X-WR-CALNAME:theatre de la terre
X-ORIGINAL-URL:https://theatredelaterre.org
X-WR-CALDESC:Évènements pour theatre de la terre
REFRESH-INTERVAL;VALUE=DURATION:PT1H
X-Robots-Tag:noindex
X-PUBLISHED-TTL:PT1H
BEGIN:VTIMEZONE
TZID:Europe/Paris
BEGIN:DAYLIGHT
TZOFFSETFROM:+0100
TZOFFSETTO:+0200
TZNAME:CEST
DTSTART:20250330T010000
END:DAYLIGHT
BEGIN:STANDARD
TZOFFSETFROM:+0200
TZOFFSETTO:+0100
TZNAME:CET
DTSTART:20251026T010000
END:STANDARD
BEGIN:DAYLIGHT
TZOFFSETFROM:+0100
TZOFFSETTO:+0200
TZNAME:CEST
DTSTART:20260329T010000
END:DAYLIGHT
BEGIN:STANDARD
TZOFFSETFROM:+0200
TZOFFSETTO:+0100
TZNAME:CET
DTSTART:20261025T010000
END:STANDARD
BEGIN:DAYLIGHT
TZOFFSETFROM:+0100
TZOFFSETTO:+0200
TZNAME:CEST
DTSTART:20270328T010000
END:DAYLIGHT
BEGIN:STANDARD
TZOFFSETFROM:+0200
TZOFFSETTO:+0100
TZNAME:CET
DTSTART:20271031T010000
END:STANDARD
END:VTIMEZONE
BEGIN:VEVENT
DTSTART;TZID=Europe/Paris:20260213T180000
DTEND;TZID=Europe/Paris:20260215T170000
DTSTAMP:20260424T174630
CREATED:20251219T111852Z
LAST-MODIFIED:20251219T111944Z
UID:8958-1771005600-1771174800@theatredelaterre.org
SUMMARY:Stage de clown approfondissement
DESCRIPTION:Stage Clown approfondissement adultes \nObjectif   \nDonner de l’ampleur à son clown.\nDécouverte  et exploration  de structures particulières. Stage axé sur la technique et le travail d’acteur . \nContenu \nTravail sur l’interne:  respiration \,  centrage. Découvertes et explorations de structures particulières.\nToujours au travers d’exercices et d’impros\, mettre en jeu ses émotions\, ses fragilités et son imaginaire. \nPour qui   \nCeux qui ont une première\, même petite\, expérience du clown. Quelques places débutants. \nOù \nSalle de pratique de Jouty\n09120 Montégut-Plantaurel \nHoraires  \nvendredi 18h au dimanche 17h.\nAccueil  le vendredi dès 17h. \nEn pratique  \nStage avec Hébergement. repas  confectionnés ensemble  avec ce que chacun apportera.\nPrévoir : duvet\, drap\, oreiller…\ntenue confortable\, double chaussette\,\nCoussin\, nez rouge si vous avez. \nCoût : 105 €  à 143€* + 12 € adhésion  \n*a chacun de se situer sur un fourchette de prix \nrenseignements au 0633778898 \ns’incrire par hello asso ici  \ninfos page site ici  \n 
URL:https://theatredelaterre.org/actualite/stage-de-clown-approfondissement/
LOCATION:Salle de pratique de Jouty\, lieux dit "Jouty "\, Montégut Plantaurel\, 09120\, France
CATEGORIES:clown,Stage
ATTACH;FMTTYPE=image/jpeg:https://theatredelaterre.org/wp-content/uploads/2025/12/clown-2.jpg
END:VEVENT
END:VCALENDAR