BEGIN:VCALENDAR
VERSION:2.0
PRODID:-//theatre de la terre - ECPv6.15.20//NONSGML v1.0//EN
CALSCALE:GREGORIAN
METHOD:PUBLISH
X-WR-CALNAME:theatre de la terre
X-ORIGINAL-URL:https://theatredelaterre.org
X-WR-CALDESC:Évènements pour theatre de la terre
REFRESH-INTERVAL;VALUE=DURATION:PT1H
X-Robots-Tag:noindex
X-PUBLISHED-TTL:PT1H
BEGIN:VTIMEZONE
TZID:Europe/Paris
BEGIN:DAYLIGHT
TZOFFSETFROM:+0100
TZOFFSETTO:+0200
TZNAME:CEST
DTSTART:20250330T010000
END:DAYLIGHT
BEGIN:STANDARD
TZOFFSETFROM:+0200
TZOFFSETTO:+0100
TZNAME:CET
DTSTART:20251026T010000
END:STANDARD
BEGIN:DAYLIGHT
TZOFFSETFROM:+0100
TZOFFSETTO:+0200
TZNAME:CEST
DTSTART:20260329T010000
END:DAYLIGHT
BEGIN:STANDARD
TZOFFSETFROM:+0200
TZOFFSETTO:+0100
TZNAME:CET
DTSTART:20261025T010000
END:STANDARD
BEGIN:DAYLIGHT
TZOFFSETFROM:+0100
TZOFFSETTO:+0200
TZNAME:CEST
DTSTART:20270328T010000
END:DAYLIGHT
BEGIN:STANDARD
TZOFFSETFROM:+0200
TZOFFSETTO:+0100
TZNAME:CET
DTSTART:20271031T010000
END:STANDARD
END:VTIMEZONE
BEGIN:VEVENT
DTSTART;TZID=Europe/Paris:20260220T190000
DTEND;TZID=Europe/Paris:20260220T220000
DTSTAMP:20260424T210129
CREATED:20251219T120550Z
LAST-MODIFIED:20260120T154057Z
UID:8968-1771614000-1771624800@theatredelaterre.org
SUMMARY:ASSEMBLÉE GÉNÉRALE FESTIVE
DESCRIPTION:INVITATION \nVenez soutenir le Théâtre de la Terre. Découvrir ou redécouvrir ses activités dans un moment de partage et de convivialité. \n19h : accueil et repas partagé avec la soupe du Théâtre de la Terre \n20h – 21h : présentation des activités\, du budget échange et vote \n21h- 22h : Scène ouverte
URL:https://theatredelaterre.org/actualite/asemblee-generale-festive/
LOCATION:Salle de pratique de Jouty\, lieux dit "Jouty "\, Montégut Plantaurel\, 09120\, France
CATEGORIES:assemblée générale
ATTACH;FMTTYPE=image/jpeg:https://theatredelaterre.org/wp-content/uploads/2018/01/logo-TT-couleur-déf-.jpg
END:VEVENT
END:VCALENDAR