BEGIN:VCALENDAR
VERSION:2.0
PRODID:-//theatre de la terre - ECPv6.15.20//NONSGML v1.0//EN
CALSCALE:GREGORIAN
METHOD:PUBLISH
X-WR-CALNAME:theatre de la terre
X-ORIGINAL-URL:https://theatredelaterre.org
X-WR-CALDESC:Évènements pour theatre de la terre
REFRESH-INTERVAL;VALUE=DURATION:PT1H
X-Robots-Tag:noindex
X-PUBLISHED-TTL:PT1H
BEGIN:VTIMEZONE
TZID:Europe/Paris
BEGIN:DAYLIGHT
TZOFFSETFROM:+0100
TZOFFSETTO:+0200
TZNAME:CEST
DTSTART:20240331T010000
END:DAYLIGHT
BEGIN:STANDARD
TZOFFSETFROM:+0200
TZOFFSETTO:+0100
TZNAME:CET
DTSTART:20241027T010000
END:STANDARD
BEGIN:DAYLIGHT
TZOFFSETFROM:+0100
TZOFFSETTO:+0200
TZNAME:CEST
DTSTART:20250330T010000
END:DAYLIGHT
BEGIN:STANDARD
TZOFFSETFROM:+0200
TZOFFSETTO:+0100
TZNAME:CET
DTSTART:20251026T010000
END:STANDARD
BEGIN:DAYLIGHT
TZOFFSETFROM:+0100
TZOFFSETTO:+0200
TZNAME:CEST
DTSTART:20260329T010000
END:DAYLIGHT
BEGIN:STANDARD
TZOFFSETFROM:+0200
TZOFFSETTO:+0100
TZNAME:CET
DTSTART:20261025T010000
END:STANDARD
END:VTIMEZONE
BEGIN:VEVENT
DTSTART;TZID=Europe/Paris:20250801T203000
DTEND;TZID=Europe/Paris:20250801T203000
DTSTAMP:20260424T203702
CREATED:20250719T085005Z
LAST-MODIFIED:20250719T093326Z
UID:8513-1754080200-1754080200@theatredelaterre.org
SUMMARY:Traversées
DESCRIPTION:Tout public à partir de 8 ans – Durée 1h \ndans le cadre de la roulott’spectacles mutualisée. \nCe qui fait peur\, c’est ce que l’on ne connait pas… Alors faisons connaissance et reconnaissons nous dans l’autre… \nThalie vient d’arriver avec sa roulotte\, elle n’est que de passage. Elle se joue des frontières. \n« Nous sommes comme les oiseaux… ». Que sont les frontières quand on se rencontre\, quand on se raconte ? \nPasseuse\, oui Thalie est une passeuse … d’histoires de vie d’exil… Passeuse de messages aussi\, qu’elle transmet de village en village. Peut-être que l’un vous est destiné ? Peut-être en aurez-vous un à lui confier !? \nTraversées est un spectacle plein de tendresse et d’espoir où l’on s’attache aux personnages.. Où l’on se connecte avec sa part de migrant … \nbande annonce  \nle programme complet de la roulott’spectacles
URL:https://theatredelaterre.org/actualite/traversees-8/
LOCATION:foulon\, quartier du Foulon\, Pamiers\, ariege\, 09100\, France
CATEGORIES:spectacles,traversées
ATTACH;FMTTYPE=image/jpeg:https://theatredelaterre.org/wp-content/uploads/2024/05/traversee.jpg
END:VEVENT
BEGIN:VEVENT
DTSTART;TZID=Europe/Paris:20250805T203000
DTEND;TZID=Europe/Paris:20250805T203000
DTSTAMP:20260424T203703
CREATED:20250719T085319Z
LAST-MODIFIED:20250719T092237Z
UID:8518-1754425800-1754425800@theatredelaterre.org
SUMMARY:Traversées
DESCRIPTION:Tout public à partir de 8 ans – Durée 1h \ndans le cadre de la roulott’spectacles mutualisée. \nCe qui fait peur\, c’est ce que l’on ne connait pas… Alors faisons connaissance et reconnaissons nous dans l’autre… \nThalie vient d’arriver avec sa roulotte\, elle n’est que de passage. Elle se joue des frontières. \n« Nous sommes comme les oiseaux… ». Que sont les frontières quand on se rencontre\, quand on se raconte ? \nPasseuse\, oui Thalie est une passeuse … d’histoires de vie d’exil… Passeuse de messages aussi\, qu’elle transmet de village en village. Peut-être que l’un vous est destiné ? Peut-être en aurez-vous un à lui confier !? \nTraversées est un spectacle plein de tendresse et d’espoir où l’on s’attache aux personnages.. Où l’on se connecte avec sa part de migrant … \nbande annonce  \nle programme complet de la roulott’spectacles
URL:https://theatredelaterre.org/actualite/traversees-9/
LOCATION:Lairière – Moulin de la Garde
CATEGORIES:spectacles,traversées
ATTACH;FMTTYPE=image/jpeg:https://theatredelaterre.org/wp-content/uploads/2024/05/traversee.jpg
END:VEVENT
BEGIN:VEVENT
DTSTART;TZID=Europe/Paris:20250808T201500
DTEND;TZID=Europe/Paris:20250808T201500
DTSTAMP:20260424T203703
CREATED:20250719T085719Z
LAST-MODIFIED:20250719T085719Z
UID:8521-1754684100-1754684100@theatredelaterre.org
SUMMARY:Molière l'amoureux
DESCRIPTION:Tout public à partir de 8ans -Durée 1h – dans le cadre de la roulott’spectacles mutualisées \nUne roulotte\, un feu de bois\, et voici l’histoire de Molière et Madeleine Béjart\, sa fidèle amie\, cheminant de village en village. Ils répètent\, jouent mais aussi rêvent\, rient\, s’aiment\, se déchirent\, se perdent et se retrouvent… \nLaissez vous entraîner dans l’univers du théâtre de Molière et à travers 8 extraits de son œuvre\, scènes connues et moins connues\, et découvrez le chemin de leurs vies. \nSpectacle original en duo où les comédiens investissent les rôles de Jean Baptiste Poquelin\, dit Molière\, et Madeleine Béjart\, mais aussi tour à tour divers personnages de l’œuvre de Molière sur le thème de l’amour. \nQuelques malles\, de grandes chemises\, des rubans\, des robes à dentelles… Et c’est tout un univers qui s’ouvre devant nous\, venant faire échos à nos rêves d’enfant\, nos rêves de voyage et de liberté… La roulotte fait office de fond de scène\, décors mais aussi d’espace de jeu. Tous les changements de costumes se font à vue\, mettant ainsi le spectateur dans la complicité de la création et la magie du spectacle.
URL:https://theatredelaterre.org/actualite/moliere-lamoureux-9/
LOCATION:puivert \, le lac\, le lac\, PUIVERT\, Aude\, 11230
ATTACH;FMTTYPE=image/jpeg:https://theatredelaterre.org/wp-content/uploads/2020/08/moliere_agenda.jpg
END:VEVENT
END:VCALENDAR