BEGIN:VCALENDAR
VERSION:2.0
PRODID:-//theatre de la terre - ECPv6.15.20//NONSGML v1.0//EN
CALSCALE:GREGORIAN
METHOD:PUBLISH
X-WR-CALNAME:theatre de la terre
X-ORIGINAL-URL:https://theatredelaterre.org
X-WR-CALDESC:Évènements pour theatre de la terre
REFRESH-INTERVAL;VALUE=DURATION:PT1H
X-Robots-Tag:noindex
X-PUBLISHED-TTL:PT1H
BEGIN:VTIMEZONE
TZID:Europe/Paris
BEGIN:DAYLIGHT
TZOFFSETFROM:+0100
TZOFFSETTO:+0200
TZNAME:CEST
DTSTART:20240331T010000
END:DAYLIGHT
BEGIN:STANDARD
TZOFFSETFROM:+0200
TZOFFSETTO:+0100
TZNAME:CET
DTSTART:20241027T010000
END:STANDARD
BEGIN:DAYLIGHT
TZOFFSETFROM:+0100
TZOFFSETTO:+0200
TZNAME:CEST
DTSTART:20250330T010000
END:DAYLIGHT
BEGIN:STANDARD
TZOFFSETFROM:+0200
TZOFFSETTO:+0100
TZNAME:CET
DTSTART:20251026T010000
END:STANDARD
BEGIN:DAYLIGHT
TZOFFSETFROM:+0100
TZOFFSETTO:+0200
TZNAME:CEST
DTSTART:20260329T010000
END:DAYLIGHT
BEGIN:STANDARD
TZOFFSETFROM:+0200
TZOFFSETTO:+0100
TZNAME:CET
DTSTART:20261025T010000
END:STANDARD
END:VTIMEZONE
BEGIN:VEVENT
DTSTART;TZID=Europe/Paris:20251004T190000
DTEND;TZID=Europe/Paris:20251004T190000
DTSTAMP:20260424T172419
CREATED:20250719T085939Z
LAST-MODIFIED:20250719T092313Z
UID:8524-1759604400-1759604400@theatredelaterre.org
SUMMARY:Molière l'amoureux
DESCRIPTION:Tout public à partir de 8ans -Durée 1h – dans le cadre de la roulott’spectacles mutualisées \nUne roulotte\, un feu de bois\, et voici l’histoire de Molière et Madeleine Béjart\, sa fidèle amie\, cheminant de village en village. Ils répètent\, jouent mais aussi rêvent\, rient\, s’aiment\, se déchirent\, se perdent et se retrouvent… \nLaissez vous entraîner dans l’univers du théâtre de Molière et à travers 8 extraits de son œuvre\, scènes connues et moins connues\, et découvrez le chemin de leurs vies. \nSpectacle original en duo où les comédiens investissent les rôles de Jean Baptiste Poquelin\, dit Molière\, et Madeleine Béjart\, mais aussi tour à tour divers personnages de l’œuvre de Molière sur le thème de l’amour. \nQuelques malles\, de grandes chemises\, des rubans\, des robes à dentelles… Et c’est tout un univers qui s’ouvre devant nous\, venant faire échos à nos rêves d’enfant\, nos rêves de voyage et de liberté… La roulotte fait office de fond de scène\, décors mais aussi d’espace de jeu. Tous les changements de costumes se font à vue\, mettant ainsi le spectateur dans la complicité de la création et la magie du spectacle.
URL:https://theatredelaterre.org/actualite/moliere-lamoureux-10/
LOCATION:PAMIERS Site de Cailloup\, PAMIERS\, 09100\, France
CATEGORIES:moliere,spectacles
ATTACH;FMTTYPE=image/jpeg:https://theatredelaterre.org/wp-content/uploads/2020/08/moliere_agenda.jpg
END:VEVENT
BEGIN:VEVENT
DTSTART;TZID=Europe/Paris:20251022T101500
DTEND;TZID=Europe/Paris:20251022T110000
DTSTAMP:20260424T172419
CREATED:20251021T080533Z
LAST-MODIFIED:20251021T080533Z
UID:8857-1761128100-1761130800@theatredelaterre.org
SUMMARY:Rien ne se perd
DESCRIPTION:Solo clownesque et marionnettique\nThèmes: Recyclage\, obsolescence et transmission \n\n\n\n\n\nDe et par Eloïse Bourscheidt\n\n\n\n\nCIE Théâtre de la Terre \nTout public\nà partir de 3 ans \nDurée 45 min \nMamie récup’ déteste le gaspillage ! Chez elle « rien ne se perd\, tout se transforme !\nAujourd’hui est un grand jour\, elle revient de son périple.\nElle a visité des déchetteries\, des recycleries et même… vos poubelles.\nDe ce grand voyage\, elle rapporte des trésors et elle a une idée derrière la tête…\nElle veut fabriquer des amis pour « Hervé »\, un personnage solitaire qu’elle a adopté il y a déjà plusieurs années…\nMais Hervé\, une marionnette créée à partir d’objets recyclés\, est d’un naturel grognon.\nVa t’il apprécier ces nouveaux ami.e.s (la rappe peureuse\, la chaussette triste et l’assiette timide) tout droit sortis\ndes poubelles ?\nRien n’est moins sûr … \nplus d’infos sur le spectacle ici
URL:https://theatredelaterre.org/actualite/rien-ne-se-perd-18/
LOCATION:alsh\, 4 rue Palmade\, Foix\, 09300
CATEGORIES:rien ne se perd,spectacles privés
ATTACH;FMTTYPE=image/jpeg:https://theatredelaterre.org/wp-content/uploads/2024/05/rien-ne-se-perd-spectacle.jpg
END:VEVENT
BEGIN:VEVENT
DTSTART;TZID=Europe/Paris:20251028T103000
DTEND;TZID=Europe/Paris:20251101T153000
DTSTAMP:20260424T172419
CREATED:20250815T102522Z
LAST-MODIFIED:20250826T170217Z
UID:8722-1761647400-1762011000@theatredelaterre.org
SUMMARY:Rien ne se perd
DESCRIPTION:10h30 et 15h30 du mardi 28 OCTOBRE  au samedi 1er NOVEMBRE \n7 euros la place \nPour les réservations c’est ici \n  \nSolo clownesque et marionnettique\nThèmes: Recyclage\, obsolescence et transmission \n\n\n\n\n\n\n\n\n\n\n\n\nMamie récup’ déteste le gaspillage ! Chez elle « rien ne se perd\, tout se transforme !\nAujourd’hui est un grand jour\, elle revient de son périple.\nElle a visité des déchetteries\, des recycleries et même… vos poubelles.\nDe ce grand voyage\, elle rapporte des trésors et elle a une idée derrière la tête…\n\n\n\n\n\nDe et par Eloïse Bourscheidt \nTout public\nà partir de 3 ans \nDurée 45 min \nplus d’infos sur le spectacle ici
URL:https://theatredelaterre.org/actualite/rien-ne-se-perd-au-theatre-du-chien-blanc/
LOCATION:Théatre du Chien Blanc\, 26 Rue du Général Jean Compans\, Toulouse\, 31500
CATEGORIES:rien ne se perd,spectacles
ATTACH;FMTTYPE=image/jpeg:https://theatredelaterre.org/wp-content/uploads/2024/05/rien-ne-se-perd-spectacle.jpg
END:VEVENT
END:VCALENDAR