BEGIN:VCALENDAR
VERSION:2.0
PRODID:-//theatre de la terre - ECPv6.15.20//NONSGML v1.0//EN
CALSCALE:GREGORIAN
METHOD:PUBLISH
X-ORIGINAL-URL:https://theatredelaterre.org
X-WR-CALDESC:Évènements pour theatre de la terre
REFRESH-INTERVAL;VALUE=DURATION:PT1H
X-Robots-Tag:noindex
X-PUBLISHED-TTL:PT1H
BEGIN:VTIMEZONE
TZID:Europe/Paris
BEGIN:DAYLIGHT
TZOFFSETFROM:+0100
TZOFFSETTO:+0200
TZNAME:CEST
DTSTART:20240331T010000
END:DAYLIGHT
BEGIN:STANDARD
TZOFFSETFROM:+0200
TZOFFSETTO:+0100
TZNAME:CET
DTSTART:20241027T010000
END:STANDARD
BEGIN:DAYLIGHT
TZOFFSETFROM:+0100
TZOFFSETTO:+0200
TZNAME:CEST
DTSTART:20250330T010000
END:DAYLIGHT
BEGIN:STANDARD
TZOFFSETFROM:+0200
TZOFFSETTO:+0100
TZNAME:CET
DTSTART:20251026T010000
END:STANDARD
BEGIN:DAYLIGHT
TZOFFSETFROM:+0100
TZOFFSETTO:+0200
TZNAME:CEST
DTSTART:20260329T010000
END:DAYLIGHT
BEGIN:STANDARD
TZOFFSETFROM:+0200
TZOFFSETTO:+0100
TZNAME:CET
DTSTART:20261025T010000
END:STANDARD
END:VTIMEZONE
BEGIN:VEVENT
DTSTART;TZID=Europe/Paris:20250712T200000
DTEND;TZID=Europe/Paris:20250712T200000
DTSTAMP:20260425T000348
CREATED:20250417T083056Z
LAST-MODIFIED:20250702T133304Z
UID:8298-1752350400-1752350400@theatredelaterre.org
SUMMARY:Balades théâtrales
DESCRIPTION:Balades théâtrales tout public \nEntre magie\, poésie et surprise inattendues\, \nune autre façon de découvrir la nature \nAux détours des chemins\, dans les vasques d’eau fraîches\, derrière chaque Arbre\, une rencontre inattendue. Ici La frontière entre le visible et l’invisible ne tient qu’à un fil…Le petit groupe de jeune est revenu\, comme chaque année\, se réfugier dans la nature et va y rencontrer de nouvelles aventures. \nUne autre façon d’être dans la nature …Une autre façon d’aller au spectacle…Suivez Châtaigne…Un véritable parcours initiatique vous attend. \nSpectacle déambulatoire sur un parcours de pleine nature. Les spectateurs alternent marche et arrêts\, au gré des scènes. \nCette création\, sur un parcours de pleine nature\, de 1h15\, en 14 scènes\, est une création issue d’une semaine de résidence rassemblant  Jeunes et adultes\, amateurs et professionnels. \nRDV  au petit hangar de Jouty. A MONTEGUT.PLANTAUREL (09120) .\nParticipation unique 6€. Prévoir chaussures de marche. Tout public à partir de 5 ans\nJauge limitée 40 pers.\nRéservation fortement conseillée: 06.33.77.88.98 \nfly ici \nplus d’infos là
URL:https://theatredelaterre.org/actualite/balades-theatrales-2/
LOCATION:hangar de jouty\, Jouty\, Montegut-Plantaurel\, 09120\, France
CATEGORIES:toluttes
ATTACH;FMTTYPE=image/jpeg:https://theatredelaterre.org/wp-content/uploads/2020/07/fontetes_agenda2.jpg
END:VEVENT
END:VCALENDAR