BEGIN:VCALENDAR
VERSION:2.0
PRODID:-//theatre de la terre - ECPv6.15.20//NONSGML v1.0//EN
CALSCALE:GREGORIAN
METHOD:PUBLISH
X-ORIGINAL-URL:https://theatredelaterre.org
X-WR-CALDESC:Évènements pour theatre de la terre
REFRESH-INTERVAL;VALUE=DURATION:PT1H
X-Robots-Tag:noindex
X-PUBLISHED-TTL:PT1H
BEGIN:VTIMEZONE
TZID:Europe/Paris
BEGIN:DAYLIGHT
TZOFFSETFROM:+0100
TZOFFSETTO:+0200
TZNAME:CEST
DTSTART:20240331T010000
END:DAYLIGHT
BEGIN:STANDARD
TZOFFSETFROM:+0200
TZOFFSETTO:+0100
TZNAME:CET
DTSTART:20241027T010000
END:STANDARD
BEGIN:DAYLIGHT
TZOFFSETFROM:+0100
TZOFFSETTO:+0200
TZNAME:CEST
DTSTART:20250330T010000
END:DAYLIGHT
BEGIN:STANDARD
TZOFFSETFROM:+0200
TZOFFSETTO:+0100
TZNAME:CET
DTSTART:20251026T010000
END:STANDARD
BEGIN:DAYLIGHT
TZOFFSETFROM:+0100
TZOFFSETTO:+0200
TZNAME:CEST
DTSTART:20260329T010000
END:DAYLIGHT
BEGIN:STANDARD
TZOFFSETFROM:+0200
TZOFFSETTO:+0100
TZNAME:CET
DTSTART:20261025T010000
END:STANDARD
END:VTIMEZONE
BEGIN:VEVENT
DTSTART;TZID=Europe/Paris:20250808T201500
DTEND;TZID=Europe/Paris:20250808T201500
DTSTAMP:20260424T221956
CREATED:20250719T085719Z
LAST-MODIFIED:20250719T085719Z
UID:8521-1754684100-1754684100@theatredelaterre.org
SUMMARY:Molière l'amoureux
DESCRIPTION:Tout public à partir de 8ans -Durée 1h – dans le cadre de la roulott’spectacles mutualisées \nUne roulotte\, un feu de bois\, et voici l’histoire de Molière et Madeleine Béjart\, sa fidèle amie\, cheminant de village en village. Ils répètent\, jouent mais aussi rêvent\, rient\, s’aiment\, se déchirent\, se perdent et se retrouvent… \nLaissez vous entraîner dans l’univers du théâtre de Molière et à travers 8 extraits de son œuvre\, scènes connues et moins connues\, et découvrez le chemin de leurs vies. \nSpectacle original en duo où les comédiens investissent les rôles de Jean Baptiste Poquelin\, dit Molière\, et Madeleine Béjart\, mais aussi tour à tour divers personnages de l’œuvre de Molière sur le thème de l’amour. \nQuelques malles\, de grandes chemises\, des rubans\, des robes à dentelles… Et c’est tout un univers qui s’ouvre devant nous\, venant faire échos à nos rêves d’enfant\, nos rêves de voyage et de liberté… La roulotte fait office de fond de scène\, décors mais aussi d’espace de jeu. Tous les changements de costumes se font à vue\, mettant ainsi le spectateur dans la complicité de la création et la magie du spectacle.
URL:https://theatredelaterre.org/actualite/moliere-lamoureux-9/
LOCATION:puivert \, le lac\, le lac\, PUIVERT\, Aude\, 11230
ATTACH;FMTTYPE=image/jpeg:https://theatredelaterre.org/wp-content/uploads/2020/08/moliere_agenda.jpg
END:VEVENT
END:VCALENDAR