BEGIN:VCALENDAR
VERSION:2.0
PRODID:-//theatre de la terre - ECPv6.15.20//NONSGML v1.0//EN
CALSCALE:GREGORIAN
METHOD:PUBLISH
X-WR-CALNAME:theatre de la terre
X-ORIGINAL-URL:https://theatredelaterre.org
X-WR-CALDESC:Évènements pour theatre de la terre
REFRESH-INTERVAL;VALUE=DURATION:PT1H
X-Robots-Tag:noindex
X-PUBLISHED-TTL:PT1H
BEGIN:VTIMEZONE
TZID:Europe/Paris
BEGIN:DAYLIGHT
TZOFFSETFROM:+0100
TZOFFSETTO:+0200
TZNAME:CEST
DTSTART:20240331T010000
END:DAYLIGHT
BEGIN:STANDARD
TZOFFSETFROM:+0200
TZOFFSETTO:+0100
TZNAME:CET
DTSTART:20241027T010000
END:STANDARD
BEGIN:DAYLIGHT
TZOFFSETFROM:+0100
TZOFFSETTO:+0200
TZNAME:CEST
DTSTART:20250330T010000
END:DAYLIGHT
BEGIN:STANDARD
TZOFFSETFROM:+0200
TZOFFSETTO:+0100
TZNAME:CET
DTSTART:20251026T010000
END:STANDARD
BEGIN:DAYLIGHT
TZOFFSETFROM:+0100
TZOFFSETTO:+0200
TZNAME:CEST
DTSTART:20260329T010000
END:DAYLIGHT
BEGIN:STANDARD
TZOFFSETFROM:+0200
TZOFFSETTO:+0100
TZNAME:CET
DTSTART:20261025T010000
END:STANDARD
END:VTIMEZONE
BEGIN:VEVENT
DTSTART;TZID=Europe/Paris:20250924T170000
DTEND;TZID=Europe/Paris:20250924T170000
DTSTAMP:20260424T204106
CREATED:20250719T090927Z
LAST-MODIFIED:20250821T141344Z
UID:8530-1758733200-1758733200@theatredelaterre.org
SUMMARY:Bâton de lune
DESCRIPTION:A partir de 6 ans. durée 1h. dans le cadre de la roulott’spectacles mutualisées \n\nDe plein air\, tout public – du théâtre en roulotte – durée : 1 heure\nDe et par : Sylvie Koutsikidès\nMise en scène : Sylvie Millet \n\n\nUne roulotte\, un feu de bois\, des senteurs de plantes aromatiques et « Châtaigne » nous transmet ses secrets et retrace son histoire. \n\n\nA travers contes et légendes\, les arbres parlent : astrologie celte\, mythologie grecque\, philosophie indienne. \nChâtaigne  vit en roulotte.  En faisant revivre son enfance et sa grand – mère\, s’appuyant sur les contes et légendes de son enfance le personnage fait  une rétrospective sur sa vie . Étrangement son histoire résonne avec l’actualité…. \n\nbande annonce ici  \ntout le programme de la roulott’sepctacles là 
URL:https://theatredelaterre.org/actualite/baton-de-lune-13/
LOCATION:oust\, 15 route de saint girons\, Oust\, arige\, 09400\, France
CATEGORIES:bâton de lune,spectacles
ATTACH;FMTTYPE=image/jpeg:https://theatredelaterre.org/wp-content/uploads/2018/01/baton_de_lune_2013_flyer_recto.jpg
END:VEVENT
END:VCALENDAR