BEGIN:VCALENDAR
VERSION:2.0
PRODID:-//theatre de la terre - ECPv6.15.20//NONSGML v1.0//EN
CALSCALE:GREGORIAN
METHOD:PUBLISH
X-ORIGINAL-URL:https://theatredelaterre.org
X-WR-CALDESC:Évènements pour theatre de la terre
REFRESH-INTERVAL;VALUE=DURATION:PT1H
X-Robots-Tag:noindex
X-PUBLISHED-TTL:PT1H
BEGIN:VTIMEZONE
TZID:Europe/Paris
BEGIN:DAYLIGHT
TZOFFSETFROM:+0100
TZOFFSETTO:+0200
TZNAME:CEST
DTSTART:20250330T010000
END:DAYLIGHT
BEGIN:STANDARD
TZOFFSETFROM:+0200
TZOFFSETTO:+0100
TZNAME:CET
DTSTART:20251026T010000
END:STANDARD
BEGIN:DAYLIGHT
TZOFFSETFROM:+0100
TZOFFSETTO:+0200
TZNAME:CEST
DTSTART:20260329T010000
END:DAYLIGHT
BEGIN:STANDARD
TZOFFSETFROM:+0200
TZOFFSETTO:+0100
TZNAME:CET
DTSTART:20261025T010000
END:STANDARD
BEGIN:DAYLIGHT
TZOFFSETFROM:+0100
TZOFFSETTO:+0200
TZNAME:CEST
DTSTART:20270328T010000
END:DAYLIGHT
BEGIN:STANDARD
TZOFFSETFROM:+0200
TZOFFSETTO:+0100
TZNAME:CET
DTSTART:20271031T010000
END:STANDARD
END:VTIMEZONE
BEGIN:VEVENT
DTSTART;TZID=Europe/Paris:20260207T203000
DTEND;TZID=Europe/Paris:20260207T203000
DTSTAMP:20260424T121327
CREATED:20251219T113105Z
LAST-MODIFIED:20251219T113105Z
UID:8963-1770496200-1770496200@theatredelaterre.org
SUMMARY:TRAVERSÉES
DESCRIPTION:Adulte dès 8 ans – durée :1 h \n Seule en scène avec Sylvie Koutsikidès – Mise en scène  : Sylvie Millet – chorégraphie : Lucie Rifad – soutien à l’écriture :  Elie Barthès\n\n\nThème : Récits d’exil – Un théâtre émouvant plein de tendresse et d’espoir.  une regard poétique sur la société que nous voulons défendre\n \nL’histoire : Thalie\, messagere de son état va de villages en villages et tisse des liens \, ce faisant elle accueille les  exilé.e.s\, déraciné.e.s\, et porte sur eux un regard plein de tendresse. Peut être parce qu’elle même est de la 3 ième génération d’un exil forcé\, a t elle compris que\, l’accueil nourrit notre humanité.
URL:https://theatredelaterre.org/actualite/traversees-10/
LOCATION:Théâtre de Poche\, toulouse\, 10 rue el alamein\, toulouse\, haute garonne\, 31500\, France
CATEGORIES:spectacles,traversées
ATTACH;FMTTYPE=image/jpeg:https://theatredelaterre.org/wp-content/uploads/2024/05/traversee.jpg
END:VEVENT
END:VCALENDAR