BEGIN:VCALENDAR
VERSION:2.0
PRODID:-//theatre de la terre - ECPv6.15.20//NONSGML v1.0//EN
CALSCALE:GREGORIAN
METHOD:PUBLISH
X-WR-CALNAME:theatre de la terre
X-ORIGINAL-URL:https://theatredelaterre.org
X-WR-CALDESC:Évènements pour theatre de la terre
REFRESH-INTERVAL;VALUE=DURATION:PT1H
X-Robots-Tag:noindex
X-PUBLISHED-TTL:PT1H
BEGIN:VTIMEZONE
TZID:Europe/Paris
BEGIN:DAYLIGHT
TZOFFSETFROM:+0100
TZOFFSETTO:+0200
TZNAME:CEST
DTSTART:20250330T010000
END:DAYLIGHT
BEGIN:STANDARD
TZOFFSETFROM:+0200
TZOFFSETTO:+0100
TZNAME:CET
DTSTART:20251026T010000
END:STANDARD
BEGIN:DAYLIGHT
TZOFFSETFROM:+0100
TZOFFSETTO:+0200
TZNAME:CEST
DTSTART:20260329T010000
END:DAYLIGHT
BEGIN:STANDARD
TZOFFSETFROM:+0200
TZOFFSETTO:+0100
TZNAME:CET
DTSTART:20261025T010000
END:STANDARD
BEGIN:DAYLIGHT
TZOFFSETFROM:+0100
TZOFFSETTO:+0200
TZNAME:CEST
DTSTART:20270328T010000
END:DAYLIGHT
BEGIN:STANDARD
TZOFFSETFROM:+0200
TZOFFSETTO:+0100
TZNAME:CET
DTSTART:20271031T010000
END:STANDARD
END:VTIMEZONE
BEGIN:VEVENT
DTSTART;TZID=Europe/Paris:20260321T150000
DTEND;TZID=Europe/Paris:20260321T170000
DTSTAMP:20260424T102059
CREATED:20260223T112511Z
LAST-MODIFIED:20260223T112511Z
UID:9034-1774105200-1774112400@theatredelaterre.org
SUMMARY:Brigade de la Terre
DESCRIPTION:SPECTACLE INTERACTIF PAR LES CLOWNES \nPublic : à partir de 8 ans \nDurée : 1 h. \nsamedi 21 mars à 15 h \nMédiathèque de Bélesta • Tél : 05 61 05 51 06 \nLes brigadières-clownes débarquent dans votre bibliothèque et s’emparent des documents mis à disposition pour nourrir leurs improvisations. Qu’est-ce que la citoyenneté ? Depuis quand ? Pour qui ? À quoi ça sert ? Que faire pour être citoyen.ne ? Ces spécialistes s’inspirent aussi des réflexions\, questions\, coups de gueule\, coups de cœur du public. Elles apportent leurs regards décalés sur ce vaste sujet et s’empêtrent dans leurs états d’âmes\, pour le plus grand plaisir de tous âges ! \nhttps://pom09ariege.fr/cms/articleview/id/1928
URL:https://theatredelaterre.org/actualite/brigade-de-la-terre/
LOCATION:Belesta Bibliothèque\, Place du Rhin Danube\, 09300 Belesta
CATEGORIES:brigade
ATTACH;FMTTYPE=image/jpeg:https://theatredelaterre.org/wp-content/uploads/2025/10/brigade1_vign.jpg
END:VEVENT
END:VCALENDAR