BEGIN:VCALENDAR
VERSION:2.0
PRODID:-//theatre de la terre - ECPv6.15.20//NONSGML v1.0//EN
CALSCALE:GREGORIAN
METHOD:PUBLISH
X-WR-CALNAME:theatre de la terre
X-ORIGINAL-URL:https://theatredelaterre.org
X-WR-CALDESC:Évènements pour theatre de la terre
REFRESH-INTERVAL;VALUE=DURATION:PT1H
X-Robots-Tag:noindex
X-PUBLISHED-TTL:PT1H
BEGIN:VTIMEZONE
TZID:Europe/Paris
BEGIN:DAYLIGHT
TZOFFSETFROM:+0100
TZOFFSETTO:+0200
TZNAME:CEST
DTSTART:20250330T010000
END:DAYLIGHT
BEGIN:STANDARD
TZOFFSETFROM:+0200
TZOFFSETTO:+0100
TZNAME:CET
DTSTART:20251026T010000
END:STANDARD
BEGIN:DAYLIGHT
TZOFFSETFROM:+0100
TZOFFSETTO:+0200
TZNAME:CEST
DTSTART:20260329T010000
END:DAYLIGHT
BEGIN:STANDARD
TZOFFSETFROM:+0200
TZOFFSETTO:+0100
TZNAME:CET
DTSTART:20261025T010000
END:STANDARD
BEGIN:DAYLIGHT
TZOFFSETFROM:+0100
TZOFFSETTO:+0200
TZNAME:CEST
DTSTART:20270328T010000
END:DAYLIGHT
BEGIN:STANDARD
TZOFFSETFROM:+0200
TZOFFSETTO:+0100
TZNAME:CET
DTSTART:20271031T010000
END:STANDARD
END:VTIMEZONE
BEGIN:VEVENT
DTSTART;TZID=Europe/Paris:20260510T150000
DTEND;TZID=Europe/Paris:20260510T150000
DTSTAMP:20260424T083937
CREATED:20260323T204923Z
LAST-MODIFIED:20260323T204923Z
UID:9079-1778425200-1778425200@theatredelaterre.org
SUMMARY:L'homme qui plantait des arbres
DESCRIPTION:Tout public dès 8 ans dans le cadre de la fête des plantes organisée par le comité des fêtes de Teilhet \nAdaptation burlesque et accompagnement musical\nSpectacle théâtre Tous public dès 8 ans Durée 1 h\nEn extérieur devant la roulotte \nAvec : Sylvie Koutsikidès et Franck Plantey\nMise en scène : Catherine Vaniscotte \nCe texte revisité à travers le regard naïf et émouvant d’un personnage burlesque (Lalla) est accompagné de musique en direct avec un guitariste/percussionniste qui petit à petit est pris lui aussi dans l’histoire.\nLa mise en scène\, le regard du personnage\, la musique qui accompagne révèle une profondeur de sens insoupçonnée à la première lecture du texte. Et l’on repart rempli du même enthousiasme que Lalla..! \nCe spectacle à été créé pour la roulott’spectacles. La roulotte sert de fond de scène\, de décors\, et de plateau de jeu. Les spectateurs sont installés devant la roulotte qui sera dans la cours de l’école de Teilhet \nplus d’infos  ici  \nle teaser là 
URL:https://theatredelaterre.org/actualite/lhomme-qui-plantait-des-arbres-19/
LOCATION:Teilhet (cours de l’cole)\, ecole\, Teilhet\, Ariege\, 09500\, France
CATEGORIES:l'homme,spectacles
ATTACH;FMTTYPE=image/jpeg:https://theatredelaterre.org/wp-content/uploads/2018/01/loqpda-illustration-affiche.jpg
ORGANIZER;CN="comit%C3%A9 ds fetes de Teilhet":MAILTO:magali.dayna@hotmail.fr
END:VEVENT
BEGIN:VEVENT
DTSTART;TZID=Europe/Paris:20260607T140000
DTEND;TZID=Europe/Paris:20260607T150000
DTSTAMP:20260424T083937
CREATED:20260420T102520Z
LAST-MODIFIED:20260420T105334Z
UID:9100-1780840800-1780844400@theatredelaterre.org
SUMMARY:Rien ne se perd
DESCRIPTION:  \nDans le cadre du festival de la Ressourcerie 09: \n  \nSolo burlesque et marionnettique\nThèmes: Recyclage\, obsolescence et transmission \n\n\n\n\n\n\n\n\n\n\n\n\n\n\n\n\n\n\n\n\nDe et par Eloïse Bourscheidt \nCIE Théâtre de la Terre \nPublic familial\ntrès adapté aux  4 /10 ans \nDurée 40min \n\n\n\n\n\n\nMamie récup’ déteste le gaspillage ! Chez elle « rien ne se perd\, tout se transforme !\nAujourd’hui est un grand jour\, elle revient de son périple.\nElle a visité des déchetteries\, des recycleries et même… vos poubelles.\nDe ce grand voyage\, elle rapporte des trésors et elle a une idée derrière la tête…\nElle veut fabriquer des amis pour « Hervé »\, un personnage solitaire qu’elle a adopté il y a déjà plusieurs années…\nMais Hervé\, une marionnette créée à partir d’objets recyclés\, est d’un naturel grognon.\nVa t’il apprécier ces nouveaux ami.e.s (la rappe peureuse\, la chaussette triste et l’assiette timide)tout droit sortis\ndes poubelles ?\nRien n’est moins sûr … \n\n\n 
URL:https://theatredelaterre.org/actualite/rien-ne-se-perd-22/
LOCATION:centre commercial allée de marveille 09350 Les Bordes sur Arize\, centre commercial\, Les Bordes sur Arize\, 09350\, France
CATEGORIES:rien ne se perd,spectacles
ATTACH;FMTTYPE=image/jpeg:https://theatredelaterre.org/wp-content/uploads/2026/04/affiche-RNSP-avec-marionnettes_redimenssionnee.jpg
END:VEVENT
BEGIN:VEVENT
DTSTART;TZID=Europe/Paris:20260617T080000
DTEND;TZID=Europe/Paris:20260617T170000
DTSTAMP:20260424T083937
CREATED:20260420T102919Z
LAST-MODIFIED:20260420T105140Z
UID:9106-1781683200-1781715600@theatredelaterre.org
SUMMARY:Rien ne se perd
DESCRIPTION:Solo burlesque et marionnettique\nThèmes: Recyclage\, obsolescence et transmission \n\n\n\n\n\n\n\n\n\n\n\n\n\n\n\n\n\n\n\n\nDe et par Eloïse Bourscheidt \nCIE Théâtre de la Terre \nPublic familial\ntrès adapté aux  4 /10 ans \nDurée 40min \n\n\n\n\n\n\nMamie récup’ déteste le gaspillage ! Chez elle « rien ne se perd\, tout se transforme !\nAujourd’hui est un grand jour\, elle revient de son périple.\nElle a visité des déchetteries\, des recycleries et même… vos poubelles.\nDe ce grand voyage\, elle rapporte des trésors et elle a une idée derrière la tête…\nElle veut fabriquer des amis pour « Hervé »\, un personnage solitaire qu’elle a adopté il y a déjà plusieurs années…\nMais Hervé\, une marionnette créée à partir d’objets recyclés\, est d’un naturel grognon.\nVa t’il apprécier ces nouveaux ami.e.s (la rappe peureuse\, la chaussette triste et l’assiette timide)tout droit sortis\ndes poubelles ?\nRien n’est moins sûr … \n\nDétails et teaser ici
URL:https://theatredelaterre.org/actualite/rien-ne-se-perd-23/
LOCATION:Le lieu dit\, Saint Affrique\, 12400
CATEGORIES:rien ne se perd,spectacles
ATTACH;FMTTYPE=image/jpeg:https://theatredelaterre.org/wp-content/uploads/2026/04/affiche-RNSP-avec-marionnettes_redimenssionnee.jpg
END:VEVENT
END:VCALENDAR