BEGIN:VCALENDAR
VERSION:2.0
PRODID:-//theatre de la terre - ECPv6.15.20//NONSGML v1.0//EN
CALSCALE:GREGORIAN
METHOD:PUBLISH
X-ORIGINAL-URL:https://theatredelaterre.org
X-WR-CALDESC:Évènements pour theatre de la terre
REFRESH-INTERVAL;VALUE=DURATION:PT1H
X-Robots-Tag:noindex
X-PUBLISHED-TTL:PT1H
BEGIN:VTIMEZONE
TZID:Europe/Paris
BEGIN:DAYLIGHT
TZOFFSETFROM:+0100
TZOFFSETTO:+0200
TZNAME:CEST
DTSTART:20200329T010000
END:DAYLIGHT
BEGIN:STANDARD
TZOFFSETFROM:+0200
TZOFFSETTO:+0100
TZNAME:CET
DTSTART:20201025T010000
END:STANDARD
BEGIN:DAYLIGHT
TZOFFSETFROM:+0100
TZOFFSETTO:+0200
TZNAME:CEST
DTSTART:20210328T010000
END:DAYLIGHT
BEGIN:STANDARD
TZOFFSETFROM:+0200
TZOFFSETTO:+0100
TZNAME:CET
DTSTART:20211031T010000
END:STANDARD
BEGIN:DAYLIGHT
TZOFFSETFROM:+0100
TZOFFSETTO:+0200
TZNAME:CEST
DTSTART:20220327T010000
END:DAYLIGHT
BEGIN:STANDARD
TZOFFSETFROM:+0200
TZOFFSETTO:+0100
TZNAME:CET
DTSTART:20221030T010000
END:STANDARD
END:VTIMEZONE
BEGIN:VEVENT
DTSTART;TZID=Europe/Paris:20210804T203000
DTEND;TZID=Europe/Paris:20210804T223000
DTSTAMP:20260425T152752
CREATED:20210605T074033Z
LAST-MODIFIED:20210605T075941Z
UID:4386-1628109000-1628116200@theatredelaterre.org
SUMMARY:entre 2 mondes
DESCRIPTION:Une création collective citoyenne. 7 acteurs \, 4 chœurs… 6 regards extérieurs en aide à la mise en scène\, intégration de la parole citoyenne . Interactivité avec le public …. »Entre 2 mondes » est un spectacle atypique: à travers l’histoire d’une tribu reconstituée\, c’est l’occasion d’évoquer tous les thèmes d’actualités que soulèvent la crise que nous traversons  …C’est aussi un grand cri d’amour \, un appel au changement…     Tous public – Durée : 1h20mn       \npour voir ou télécharger le programme    \n\nfb: Entre 2 mondes – Une création collective citoyenne\n\nPlus d’infos
URL:https://theatredelaterre.org/actualite/entre-2-mondes-6/
LOCATION:parc Bouychère- Foix\, Parc Bouychères\, Foix\, occitanie\, 09120\, France
CATEGORIES:entre 2 mondes,spectacles
ATTACH;FMTTYPE=image/jpeg:https://theatredelaterre.org/wp-content/uploads/2021/06/visuel-crea-collective.jpg
END:VEVENT
BEGIN:VEVENT
DTSTART;TZID=Europe/Paris:20210804T180000
DTEND;TZID=Europe/Paris:20210804T220000
DTSTAMP:20260425T152752
CREATED:20210729T101603Z
LAST-MODIFIED:20210729T101603Z
UID:4741-1628100000-1628114400@theatredelaterre.org
SUMMARY:Roulott'spectacles 2021
DESCRIPTION:Sur les routes d’Ariège du 17 juillet au 15 aout \,  7 compagnies mutualisées pour enchanter l’Ariège\nà 18 h Arbre à pluie sonore\nà 20h30  Entre 2 mondes \nSpectacles tout publics d’extérieur annulé en cas de pluie. Petite restauration sur place.\nRenseignements 0633778898 \n5€ / 8€ les 2 + chapeau / Enfants de moins de 5 ans : 2 € \nTout le programme ici
URL:https://theatredelaterre.org/actualite/roulottspectacles-2021-8/
LOCATION:Foix (09 ) / parc de Bouycheres\, Parc de Bouycheres\, Foix\, ariège\, 09000
CATEGORIES:spectacles
ATTACH;FMTTYPE=image/jpeg:https://theatredelaterre.org/wp-content/uploads/2021/07/visuel_roulottspectacles.jpg
END:VEVENT
BEGIN:VEVENT
DTSTART;TZID=Europe/Paris:20210803T180000
DTEND;TZID=Europe/Paris:20210803T220000
DTSTAMP:20260425T152752
CREATED:20210729T101138Z
LAST-MODIFIED:20210729T101138Z
UID:4739-1628013600-1628028000@theatredelaterre.org
SUMMARY:Roulott'spectacle 2021
DESCRIPTION:Sur les routes d’Ariège du 17 juillet au 15 aout \,  7 compagnies mutualisées pour enchanter l’Ariège\nà 18 h En petite Forme\nà 20h45 Terre à Terre \nSpectacles tout publics d’extérieur annulé en cas de pluie. Petite restauration sur place.\nRenseignements 0633778898 \n5€ / 8€ les 2 + chapeau / Enfants de moins de 5 ans : 2 € \nTout le programme ici
URL:https://theatredelaterre.org/actualite/roulottspectacle-2021-2/
LOCATION:Foix (09 ) / parc de Bouycheres\, Parc de Bouycheres\, Foix\, ariège\, 09000
CATEGORIES:spectacles
ATTACH;FMTTYPE=image/jpeg:https://theatredelaterre.org/wp-content/uploads/2021/07/visuel_roulottspectacles.jpg
END:VEVENT
BEGIN:VEVENT
DTSTART;TZID=Europe/Paris:20210802T180000
DTEND;TZID=Europe/Paris:20210802T220000
DTSTAMP:20260425T152752
CREATED:20210729T100302Z
LAST-MODIFIED:20210729T100424Z
UID:4737-1627927200-1627941600@theatredelaterre.org
SUMMARY:Roulott'spectacles 2021
DESCRIPTION:Sur les routes d’Ariège du 17 juillet au 15 aout \,  7 compagnies mutualisées pour enchanter l’Ariège\nà 18 h Encore\nà 20h30 Home \nSpectacles tout publics d’extérieur annulé en cas de pluie. Petite restauration sur place.\nRenseignements 0633778898 \n5€ / 8€ les 2 + chapeau / Enfants de moins de 5 ans : 2 € \nTout le programme ici \n 
URL:https://theatredelaterre.org/actualite/roulottspectacles-2021-7/
LOCATION:pailhès (09)- esplanade de l’église\, village\, pailhès\, ariège\, 09130\, France
CATEGORIES:spectacles
ATTACH;FMTTYPE=image/jpeg:https://theatredelaterre.org/wp-content/uploads/2021/07/visuel_roulottspectacles.jpg
END:VEVENT
BEGIN:VEVENT
DTSTART;TZID=Europe/Paris:20210731T180000
DTEND;TZID=Europe/Paris:20210731T220000
DTSTAMP:20260425T152752
CREATED:20210718T112929Z
LAST-MODIFIED:20210718T112929Z
UID:4627-1627754400-1627768800@theatredelaterre.org
SUMMARY:Roulott'spectacles 2021
DESCRIPTION:Sur les routes d’Ariège du 17 juillet au 15 aout \,  7 compagnies mutualisées pour enchanter l’Ariège \nà 18h00 L’arbre à pluie sonore \nà 20h45 Ucciu \nSpectacles tout publics d’extérieur annulé en cas de pluie. Petite restauration sur place. \nRenseignements 0633778898 \n5€ / 8€ les 2 + chapeau / Enfants de moins de 5 ans : 2 €\n \ntout le programme ici
URL:https://theatredelaterre.org/actualite/roulottspectacles-2021-5/
LOCATION:pailhès (09)- esplanade de l’église\, village\, pailhès\, ariège\, 09130\, France
CATEGORIES:spectacles
ATTACH;FMTTYPE=image/jpeg:https://theatredelaterre.org/wp-content/uploads/2021/07/visuel_roulottspectacles.jpg
END:VEVENT
BEGIN:VEVENT
DTSTART;TZID=Europe/Paris:20210730T180000
DTEND;TZID=Europe/Paris:20210730T220000
DTSTAMP:20260425T152752
CREATED:20210729T095015Z
LAST-MODIFIED:20210729T095015Z
UID:4732-1627668000-1627682400@theatredelaterre.org
SUMMARY:Roulott'spectacles 2021
DESCRIPTION:Roulott’spectacles \nSur les routes d’Ariège du 17 juillet au 15 aout \,  7 compagnies mutualisées pour enchanter l’Ariège\nà 18 h Rampono\nà 20h45 Contes et savoir faire des Montagnes \nSpectacles tout publics d’extérieur annulé en cas de pluie. Petite restauration sur place.\nRenseignements 0633778898 \n5€ / 8€ les 2 + chapeau / Enfants de moins de 5 ans : 2 € \nTout le programme ici
URL:https://theatredelaterre.org/actualite/roulottspectacles-2021-6/
LOCATION:pailhès (09)- esplanade de l’église\, village\, pailhès\, ariège\, 09130\, France
CATEGORIES:Rampono,spectacles
ATTACH;FMTTYPE=image/jpeg:https://theatredelaterre.org/wp-content/uploads/2021/07/visuel_roulottspectacles.jpg
END:VEVENT
BEGIN:VEVENT
DTSTART;TZID=Europe/Paris:20210730T180000
DTEND;TZID=Europe/Paris:20210730T220000
DTSTAMP:20260425T152752
CREATED:20210718T112444Z
LAST-MODIFIED:20210718T112444Z
UID:4625-1627668000-1627682400@theatredelaterre.org
SUMMARY:Roulott' spectacles 2021
DESCRIPTION:Sur les routes d’Ariège du 17 juillet au 15 aout \,  7 compagnies mutualisées pour enchanter l’Ariège \nà 18h00 Rampono \nà 20h45 Conte et savoir faire des montagnes \nSpectacles tout publics d’extérieur annulé en cas de pluie. Petite restauration sur place. \nRenseignements 0633778898 \n5€ / 8€ les 2 + chapeau / Enfants de moins de 5 ans : 2 €\n \ntout le programme ici
URL:https://theatredelaterre.org/actualite/roulott-spectacles-2021/
LOCATION:pailhès (09)- esplanade de l’église\, village\, pailhès\, ariège\, 09130\, France
CATEGORIES:spectacles
ATTACH;FMTTYPE=image/jpeg:https://theatredelaterre.org/wp-content/uploads/2021/07/visuel_roulottspectacles.jpg
END:VEVENT
BEGIN:VEVENT
DTSTART;TZID=Europe/Paris:20210728T180000
DTEND;TZID=Europe/Paris:20210728T220000
DTSTAMP:20260425T152752
CREATED:20210718T111946Z
LAST-MODIFIED:20210718T112018Z
UID:4621-1627495200-1627509600@theatredelaterre.org
SUMMARY:Roulott'spectacles 2021
DESCRIPTION:Sur les routes d’Ariège du 17 juillet au 15 aout \,  7 compagnies mutualisées pour enchanter l’Ariège \nà 18h00 Rampono \nà 20h45 Ucciu \nSpectacles tout publics d’extérieur annulé en cas de pluie. Petite restauration sur place. \nRenseignements 0633778898 \n5€ / 8€ les 2 + chapeau / Enfants de moins de 5 ans : 2 €\n \ntout le programme ici
URL:https://theatredelaterre.org/actualite/roulottspectacle-2021/
LOCATION:Montbel – Près de la maison du lac\, Montbel\, Ariège\, 09600\, France
CATEGORIES:spectacles
ATTACH;FMTTYPE=image/jpeg:https://theatredelaterre.org/wp-content/uploads/2021/07/visuel_roulottspectacles.jpg
END:VEVENT
BEGIN:VEVENT
DTSTART;TZID=Europe/Paris:20210727T201500
DTEND;TZID=Europe/Paris:20210727T223000
DTSTAMP:20260425T152752
CREATED:20210605T073819Z
LAST-MODIFIED:20210605T080016Z
UID:4382-1627416900-1627425000@theatredelaterre.org
SUMMARY:Entre 2 mondes
DESCRIPTION:Une création collective citoyenne. 7 acteurs \, 4 chœurs… 6 regards extérieurs en aide à la mise en scène\, intégration de la parole citoyenne . Interactivité avec le public …. »Entre 2 mondes » est un spectacle atypique: à travers l’histoire d’une tribu reconstituée\, c’est l’occasion d’évoquer tous les thèmes d’actualités que soulèvent la crise que nous traversons  …C’est aussi un grand cri d’amour \, un appel au changement…     Tous public – Durée : 1h20mn       \npour voir ou télécharger le programme    \n\nfb: Entre 2 mondes – Une création collective citoyenne\n\nPlus d’infos
URL:https://theatredelaterre.org/actualite/entre-2-mondes-5/
LOCATION:Lac de Monbel\, Parking - maison du lac\, Montbel\, occitanie\, 09600
CATEGORIES:entre 2 mondes,spectacles
ATTACH;FMTTYPE=image/jpeg:https://theatredelaterre.org/wp-content/uploads/2021/06/visuel-crea-collective.jpg
END:VEVENT
BEGIN:VEVENT
DTSTART;TZID=Europe/Paris:20210727T180000
DTEND;TZID=Europe/Paris:20210727T220000
DTSTAMP:20260425T152752
CREATED:20210718T110822Z
LAST-MODIFIED:20210718T111413Z
UID:4614-1627408800-1627423200@theatredelaterre.org
SUMMARY:Roulott'spectacles 2021
DESCRIPTION:Sur les routes d’Ariège du 17 juillet au 15 aout \,  7 compagnies mutualisées pour enchanter l’Ariège \nà 18h00 En petite forme \nà 20h15 Entre 2 mondes \nSpectacles tout publics d’extérieur annulé en cas de pluie. Petite restauration sur place. \nRenseignements 0633778898 \n5€ / 8€ les 2 + chapeau / Enfants de moins de 5 ans : 2 €\n \ntout le programme ici
URL:https://theatredelaterre.org/actualite/roulottspectacles-2021-3/
LOCATION:Montbel – Près de la maison du lac\, Montbel\, Ariège\, 09600\, France
CATEGORIES:spectacles
ATTACH;FMTTYPE=image/jpeg:https://theatredelaterre.org/wp-content/uploads/2021/07/visuel_roulottspectacles.jpg
END:VEVENT
BEGIN:VEVENT
DTSTART;TZID=Europe/Paris:20210727T153000
DTEND;TZID=Europe/Paris:20210727T161500
DTSTAMP:20260425T152752
CREATED:20210616T134155Z
LAST-MODIFIED:20210628T172646Z
UID:4487-1627399800-1627402500@theatredelaterre.org
SUMMARY:Minute\, le temps d'un souvenir
DESCRIPTION:Minute la clowne\, vient vous conter l’histoire de Célestin\, le ramasseur de chagrins….\nDébarrasser la terre de toutes ses misères n’est pas une mince affaire…\nMinute\, pleine d’émotions\, vous embarque dans son souvenir avec son accordéon\, sa carriole et sa poésie….\nUn spectacle tendre \, poétique et généreux… \nplus d’infos ici
URL:https://theatredelaterre.org/actualite/minute-le-temps-dun-souvenir-17/
LOCATION:centre d’animation Pierre Heuzé\, espace devant la ludothèque -City stade - 60 place Champlain - 14000 Caen
CATEGORIES:minute,spectacles
ATTACH;FMTTYPE=image/jpeg:https://theatredelaterre.org/wp-content/uploads/2020/09/minute-agenda.jpg
END:VEVENT
BEGIN:VEVENT
DTSTART;TZID=Europe/Paris:20210725T180000
DTEND;TZID=Europe/Paris:20210725T220000
DTSTAMP:20260425T152752
CREATED:20210718T105059Z
LAST-MODIFIED:20211126T105647Z
UID:4608-1627236000-1627250400@theatredelaterre.org
SUMMARY:Roulott'spectacles 2021
DESCRIPTION:Sur les routes d’Ariège du 17 juillet au 15 aout \,  7 compagnies mutualisées pour enchanter l’Ariège \nà 18h00 L’arbre à pluie sonore \nà 20h45 Molière \nSpectacles tout publics d’extérieur annulé en cas de pluie. Petite restauration sur place. Renseignements 0633778898 \nGratuit \ntout le programme ici
URL:https://theatredelaterre.org/actualite/roulottspectacles-2021-4/
LOCATION:Tarascon – Vieille ville\, Vieille ville\, Tarascon\, Ariège\, 09400\, France
CATEGORIES:moliere,spectacles
ATTACH;FMTTYPE=image/jpeg:https://theatredelaterre.org/wp-content/uploads/2021/07/visuel_roulottspectacles.jpg
END:VEVENT
BEGIN:VEVENT
DTSTART;TZID=Europe/Paris:20210724T203000
DTEND;TZID=Europe/Paris:20210724T215000
DTSTAMP:20260425T152752
CREATED:20210604T170250Z
LAST-MODIFIED:20210718T105323Z
UID:4369-1627158600-1627163400@theatredelaterre.org
SUMMARY:Entre 2 mondes - Roulott'spectacles 2021
DESCRIPTION:Une création collective citoyenne. 7 acteurs \, 4 chœurs… 6 regards extérieurs en aide à la mise en scène\, intégration de la parole citoyenne . Interactivité avec le public …. »Entre 2 mondes » est un spectacle atypique: à travers l’histoire d’une tribu reconstituée\, c’est l’occasion d’évoquer tous les thèmes d’actualités que soulèvent la crise que nous traversons  …C’est aussi un grand cri d’amour \, un appel au changement…     Tous public – Durée : 1h20mn       \npour voir ou télécharger le programme    \n\nfb: Entre 2 mondes – Une création collective citoyenne\n\nPlus d’infos
URL:https://theatredelaterre.org/actualite/entre-2-mondes-2/
LOCATION:Tarascon – Vieille ville\, Vieille ville\, Tarascon\, Ariège\, 09400\, France
CATEGORIES:entre 2 mondes,spectacles
ATTACH;FMTTYPE=image/jpeg:https://theatredelaterre.org/wp-content/uploads/2021/06/visuel-crea-collective.jpg
END:VEVENT
BEGIN:VEVENT
DTSTART;TZID=Europe/Paris:20210723T180000
DTEND;TZID=Europe/Paris:20210723T220000
DTSTAMP:20260425T152752
CREATED:20210718T102731Z
LAST-MODIFIED:20210718T111159Z
UID:4600-1627063200-1627077600@theatredelaterre.org
SUMMARY:Roulott'spectacles 2021
DESCRIPTION:Sur les routes d’Ariège du 17 juillet au 15 aout \,  7 compagnies mutualisées pour enchanter l’Ariège.\nà 18 h Rampono\nà 20h45 L’homme qui plantait des arbres \nspectacles tout publics d’extérieur annulé en cas de pluie. petites restaurations sur place. renseignements 0633778898 \nGratuit \ntout le programme ici
URL:https://theatredelaterre.org/actualite/roulottspectacles-2021-2/
LOCATION:Banat – Près de la salle polyvalente\, Banat - Près de la salle polyvalente\, Banat\, Ariège\, 09400\, France
CATEGORIES:spectacles
ATTACH;FMTTYPE=image/jpeg:https://theatredelaterre.org/wp-content/uploads/2021/07/visuel_roulottspectacles.jpg
END:VEVENT
BEGIN:VEVENT
DTSTART;TZID=Europe/Paris:20210723T160000
DTEND;TZID=Europe/Paris:20210723T164500
DTSTAMP:20260425T152752
CREATED:20210609T103541Z
LAST-MODIFIED:20210628T172046Z
UID:4443-1627056000-1627058700@theatredelaterre.org
SUMMARY:Minute\, le temps d'un souvenir
DESCRIPTION:Minute la clowne\, vient vous conter l’histoire de Célestin\, le ramasseur de chagrins. \nDébarrasser la terre de toutes ses misères n’est pas une mince affaire… \nMinute\, pleine d’émotions\, vous embarque dans son souvenir avec son accordéon\, sa carriole et sa poésie…. \nUn spectacle tendre \, poétique et généreux…Minute la clowne\, vient vous conter l’histoire de Célestin\, le ramasseur de chagrins. \n 
URL:https://theatredelaterre.org/actualite/minute-le-temps-dun-souvenir-15/
LOCATION:centre de loisirs Fonteine Etoupefour\, 27 avenue du six juin\, 14000 Caen
CATEGORIES:minute,spectacles
ATTACH;FMTTYPE=image/jpeg:https://theatredelaterre.org/wp-content/uploads/2020/09/minute-agenda.jpg
END:VEVENT
BEGIN:VEVENT
DTSTART;TZID=Europe/Paris:20210721T180000
DTEND;TZID=Europe/Paris:20210721T220000
DTSTAMP:20260425T152752
CREATED:20210718T101039Z
LAST-MODIFIED:20211126T105745Z
UID:4597-1626890400-1626904800@theatredelaterre.org
SUMMARY:Roulott'spectacles 2021
DESCRIPTION:Sur les routes d’Ariège du 17 juillet au 15 aout \,  7 compagnies mutualisées pour enchanter l’Ariège\nà 18 h le titre est en toi\nà 20h45 Molière \nspectacles tout publics d’extérieur annulé en cas de pluie. petites restaurations sur place. renseignements 0633778898 \n5€ / 8€ les 2 + chapeau / Enfants de moins de 5 ans : 2 € \ntout le programme ici \n 
URL:https://theatredelaterre.org/actualite/roulottspectacles-2021/
LOCATION:saverdun – champ de mars\, champs de mars\, saverdun\, Ariège\, 09700\, France
CATEGORIES:moliere,spectacles
ATTACH;FMTTYPE=image/jpeg:https://theatredelaterre.org/wp-content/uploads/2021/07/visuel_roulottspectacles.jpg
END:VEVENT
BEGIN:VEVENT
DTSTART;TZID=Europe/Paris:20210720T180000
DTEND;TZID=Europe/Paris:20210720T180000
DTSTAMP:20260425T152752
CREATED:20210718T073007Z
LAST-MODIFIED:20210718T073007Z
UID:4581-1626804000-1626804000@theatredelaterre.org
SUMMARY:roulott'spectacles
DESCRIPTION:Sur les routes d’Ariège du 17 juillet au 15 aout \,  11 compagnies mutualisées pour enchanter l’Ariège\nà 18 h Home\nà 20h45 Bâton de lune \nspectacles tout publics d’extérieur annulé en cas de pluie. petites restaurations sur place. renseignements 0633778898 \n5€ / 8€ les 2 + chapeau / Enfants de moins de 5 ans : 2 € \ntout le programme ici
URL:https://theatredelaterre.org/actualite/roulottspectacles-3/
LOCATION:saverdun – champ de mars\, champs de mars\, saverdun\, Ariège\, 09700\, France
CATEGORIES:bâton de lune,spectacles
ATTACH;FMTTYPE=image/jpeg:https://theatredelaterre.org/wp-content/uploads/2021/07/visuel_roulottspectacles.jpg
END:VEVENT
BEGIN:VEVENT
DTSTART;TZID=Europe/Paris:20210718T180000
DTEND;TZID=Europe/Paris:20210718T220000
DTSTAMP:20260425T152752
CREATED:20210715T154633Z
LAST-MODIFIED:20210715T154633Z
UID:4574-1626631200-1626645600@theatredelaterre.org
SUMMARY:roulott'spectacles
DESCRIPTION:Sur les routes d’Ariège du 17 juillet au 15 aout \,  11 compagnies mutualisées pour enchanter l’Ariège\nà 18h Bidiboulle\nà 20h45 Home \nspectacles tout publics d’extérieur annulé en cas de pluie. petites restaurations sur place. renseignements 0633778898 \n5€ / 8€ les 2 + chapeau / Enfants de moins de 5 ans : 2 € \ntout le programme ici
URL:https://theatredelaterre.org/actualite/roulottspectacles-2/
LOCATION:ferme de Maffé\, col de Maffé\, ventenac\, Ariège\, 09120\, France
CATEGORIES:bidiboulle,spectacles
ATTACH;FMTTYPE=image/jpeg:https://theatredelaterre.org/wp-content/uploads/2021/07/visuel_roulottspectacles.jpg
END:VEVENT
BEGIN:VEVENT
DTSTART;TZID=Europe/Paris:20210718T180000
DTEND;TZID=Europe/Paris:20210718T180000
DTSTAMP:20260425T152752
CREATED:20210715T155901Z
LAST-MODIFIED:20210715T155942Z
UID:4577-1626631200-1626631200@theatredelaterre.org
SUMMARY:Bidiboulle
DESCRIPTION:spectacles  tout petit 8mois – 4ans. en plein air . Annulé en cas de pluie . petite restauration sur place \nplus d’infos sur le spectacles \nplus d’infos sur la roulott’spectacles
URL:https://theatredelaterre.org/actualite/bidiboulle/
LOCATION:ferme de Maffé\, col de Maffé\, ventenac\, Ariège\, 09120\, France
CATEGORIES:bidiboulle,spectacles
ATTACH;FMTTYPE=image/jpeg:https://theatredelaterre.org/wp-content/uploads/2021/07/bidiboulle-theatre-de-la-terre-page2.jpg
END:VEVENT
BEGIN:VEVENT
DTSTART;TZID=Europe/Paris:20210717T180000
DTEND;TZID=Europe/Paris:20210717T220000
DTSTAMP:20260425T152752
CREATED:20210715T154121Z
LAST-MODIFIED:20210715T154231Z
UID:4569-1626544800-1626559200@theatredelaterre.org
SUMMARY:Roulott'spectacles
DESCRIPTION:Sur les routes d’Ariège du 17 juillet au 15 aout \,  11 compagnies mutualisées pour enchanter l’Ariège\nà 18 h contes et savoir faire des montagnes\nà 20h45 le titre est en toi \nspectacles tout publics d’extérieur annulé en cas de pluie. petites restaurations sur place. renseignements 0633778898 \n5€ / 8€ les 2 + chapeau / Enfants de moins de 5 ans : 2 € \ntout le programme ici
URL:https://theatredelaterre.org/actualite/roulottspectacles/
LOCATION:ferme de Maffé\, col de Maffé\, ventenac\, Ariège\, 09120\, France
CATEGORIES:spectacles
ATTACH;FMTTYPE=image/jpeg:https://theatredelaterre.org/wp-content/uploads/2021/07/visuel_roulottspectacles.jpg
END:VEVENT
BEGIN:VEVENT
DTSTART;TZID=Europe/Paris:20210717T160000
DTEND;TZID=Europe/Paris:20210717T164500
DTSTAMP:20260425T152752
CREATED:20210609T101400Z
LAST-MODIFIED:20210628T172452Z
UID:4428-1626537600-1626540300@theatredelaterre.org
SUMMARY:Minute\, le temps d'un souvenir
DESCRIPTION:Minute la clowne\, vient vous conter l’histoire de Célestin\, le ramasseur de chagrins. \nDébarrasser la terre de toutes ses misères n’est pas une mince affaire…\nMinute\, pleine d’émotions\, vous embarque dans son souvenir avec son accordéon\, sa carriole et sa poésie….\nUn spectacle tendre \, poétique et généreux…
URL:https://theatredelaterre.org/actualite/minute-le-temps-dun-souvenir-11/
LOCATION:association Les Sonorines\, Sainte Honorines la Guillaume 61210
CATEGORIES:minute,spectacles
ATTACH;FMTTYPE=image/jpeg:https://theatredelaterre.org/wp-content/uploads/2020/09/minute-agenda.jpg
END:VEVENT
BEGIN:VEVENT
DTSTART;TZID=Europe/Paris:20210716T200000
DTEND;TZID=Europe/Paris:20210716T210000
DTSTAMP:20260425T152752
CREATED:20210616T132251Z
LAST-MODIFIED:20220114T192547Z
UID:4477-1626465600-1626469200@theatredelaterre.org
SUMMARY:MOnique Razorback
DESCRIPTION:La MOnique revient tous les jours près d’un Bar « Le Terminus » après sa\ntournée de Récup ! Chaque jour\, elle y retrouve son Pierrot…\nla solitude \, tu connais?\nVenez vivre une tranche de vie et entrez dans l’esprit fracturé de « La\nMOnique »
URL:https://theatredelaterre.org/actualite/monique-razorback-3/
LOCATION:association Les Sonorines\, Sainte Honorines la Guillaume 61210
CATEGORIES:monique razorback,spectacles
ATTACH;FMTTYPE=image/jpeg:https://theatredelaterre.org/wp-content/uploads/2021/06/affiche-monique-razorback-web.jpg
END:VEVENT
BEGIN:VEVENT
DTSTART;TZID=Europe/Paris:20210714T200000
DTEND;TZID=Europe/Paris:20210714T220000
DTSTAMP:20260425T152752
CREATED:20210605T074957Z
LAST-MODIFIED:20210605T080134Z
UID:4393-1626292800-1626300000@theatredelaterre.org
SUMMARY:Entre 2 mondes
DESCRIPTION:Une création collective citoyenne. 7 acteurs \, 4 chœurs… 6 regards extérieurs en aide à la mise en scène\, intégration de la parole citoyenne . Interactivité avec le public …. »Entre 2 mondes » est un spectacle atypique: à travers l’histoire d’une tribu reconstituée\, c’est l’occasion d’évoquer tous les thèmes d’actualités que soulèvent la crise que nous traversons  …C’est aussi un grand cri d’amour \, un appel au changement…     Tous public – Durée : 1h20mn       \npour voir ou télécharger le programme    \n\nfb: Entre 2 mondes – Une création collective citoyenne\n\nPlus d’infos
URL:https://theatredelaterre.org/actualite/entre-2-mondes-8/
LOCATION:ecole de cirque de mazamet\, parking champ de ville\, mazamet\, occitanie\, 81200
CATEGORIES:entre 2 mondes,spectacles
ATTACH;FMTTYPE=image/jpeg:https://theatredelaterre.org/wp-content/uploads/2021/06/visuel-crea-collective.jpg
END:VEVENT
BEGIN:VEVENT
DTSTART;TZID=Europe/Paris:20210713T190000
DTEND;TZID=Europe/Paris:20210713T220000
DTSTAMP:20260425T152752
CREATED:20210616T133633Z
LAST-MODIFIED:20210628T171348Z
UID:4485-1626202800-1626213600@theatredelaterre.org
SUMMARY:La brigade de la terre -Déambulation
DESCRIPTION:de 19h à 20h : « Minute » la clowne déambule et crée un contact chaleureux avec le public .Puis de 21h à 22h : Minute » aura créé un espace sympathique\, afin de proposer au public de venir faire de jolies photos en famille\, entre amis avec la clowne! \nen savoir plus
URL:https://theatredelaterre.org/actualite/la-brigade-de-la-terre-deambulation/
LOCATION:Centre d’animation de Lasson\, 14790 ROTS
CATEGORIES:brigade,spectacles
ATTACH;FMTTYPE=image/jpeg:https://theatredelaterre.org/wp-content/uploads/2021/06/minute-pamiers.jpg
END:VEVENT
BEGIN:VEVENT
DTSTART;TZID=Europe/Paris:20210713T170000
DTEND;TZID=Europe/Paris:20210713T174500
DTSTAMP:20260425T152752
CREATED:20210616T132834Z
LAST-MODIFIED:20210625T080155Z
UID:4480-1626195600-1626198300@theatredelaterre.org
SUMMARY:Minute\, le temps d'un souvenir
DESCRIPTION:Minute la clowne\, vient vous conter l’histoire de Célestin\, le ramasseur de chagrins.\nDébarrasser la terre de toutes ses misères n’est pas une mince affaire…\nMinute\, pleine d’émotions\, vous embarque dans son souvenir avec son accordéon\, sa carriole et sa poésie….\nUn spectacle tendre \, poétique et généreux… \nplus d’infos ici
URL:https://theatredelaterre.org/actualite/minute-le-temps-dun-souvenir-16/
LOCATION:Centre d’animation de Lasson\, 14790 ROTS
CATEGORIES:minute,spectacles
ATTACH;FMTTYPE=image/jpeg:https://theatredelaterre.org/wp-content/uploads/2020/09/minute-agenda.jpg
END:VEVENT
BEGIN:VEVENT
DTSTART;TZID=Europe/Paris:20210709T200000
DTEND;TZID=Europe/Paris:20210709T210000
DTSTAMP:20260425T152752
CREATED:20210616T131551Z
LAST-MODIFIED:20220114T192446Z
UID:4474-1625860800-1625864400@theatredelaterre.org
SUMMARY:MOnique Razorback
DESCRIPTION:La MOnique revient tous les jours près d’un Bar « Le Terminus » après sa\ntournée de Récup ! Chaque jour\, elle y retrouve son Pierrot…\nla solitude \, tu connais?\nVenez vivre une tranche de vie et entrez dans l’esprit fracturé de « La\nMOnique » \nplus d’infos ici
URL:https://theatredelaterre.org/actualite/monique-razorback-2/
LOCATION:le why Not « le bus rose »\, Poul Rodou\, 29620 Locquirecc
CATEGORIES:monique razorback,spectacles
ATTACH;FMTTYPE=image/jpeg:https://theatredelaterre.org/wp-content/uploads/2021/06/affiche-monique-razorback-web.jpg
END:VEVENT
BEGIN:VEVENT
DTSTART;TZID=Europe/Paris:20210705T180000
DTEND;TZID=Europe/Paris:20210705T184500
DTSTAMP:20260425T152752
CREATED:20210609T100341Z
LAST-MODIFIED:20210628T172310Z
UID:4425-1625508000-1625510700@theatredelaterre.org
SUMMARY:Minute\, le temps d'un souvenir
DESCRIPTION:Minute la clowne\, vient vous conter l’histoire de Célestin\, le ramasseur de chagrins. \nDébarrasser la terre de toutes ses misères n’est pas une mince affaire… \nMinute\, pleine d’émotions\, vous embarque dans son souvenir avec son accordéon\, sa carriole et sa poésie…. \nUn spectacle tendre \, poétique et généreux… \nplus d’infos ici
URL:https://theatredelaterre.org/actualite/minute-le-temps-dun-souvenir-10/
LOCATION:café Théodore\, Rue Marguerite Allain Faure\, 22300 Trédrez-Locquémeau
CATEGORIES:minute,spectacles
ATTACH;FMTTYPE=image/jpeg:https://theatredelaterre.org/wp-content/uploads/2020/09/minute-agenda.jpg
END:VEVENT
BEGIN:VEVENT
DTSTART;TZID=Europe/Paris:20210626T160000
DTEND;TZID=Europe/Paris:20210626T164500
DTSTAMP:20260425T152752
CREATED:20210609T095744Z
LAST-MODIFIED:20210625T075416Z
UID:4421-1624723200-1624725900@theatredelaterre.org
SUMMARY:Minute\, le temps d'un souvenir
DESCRIPTION:Minute la clowne\, vient vous conter l’histoire de Célestin\, le ramasseur de chagrins. \nDébarrasser la terre de toutes ses misères n’est pas une mince affaire…\nChaque jour\, de bon matin\, Célestin s’en va sur les chemins. À grandes enjambées\, il s’en va ramasser les petits riens\, les gros chagrins.\nMais il faut s’en débarrasser et les faire s’envoler… \nComment peut-il vivre au milieu de tous ces chagrins\, même enfermés\, sans en subir les conséquences ? \nQuelles solutions Célestin va t-il trouver ? \nMinute\, pleine d’émotions\, vous embarque dans son souvenir avec son accordéon\, sa carriole et sa poésie…. \nUn spectacle tendre \, poétique et généreux… \nplus d’infos ici
URL:https://theatredelaterre.org/actualite/minute-le-temps-dun-souvenir-6/
LOCATION:La fouillade -Aveyron
CATEGORIES:minute,spectacles
ATTACH;FMTTYPE=image/jpeg:https://theatredelaterre.org/wp-content/uploads/2020/09/minute-agenda.jpg
END:VEVENT
BEGIN:VEVENT
DTSTART;TZID=Europe/Paris:20210619T190000
DTEND;TZID=Europe/Paris:20210619T200000
DTSTAMP:20260425T152752
CREATED:20210609T104733Z
LAST-MODIFIED:20220114T192325Z
UID:4447-1624129200-1624132800@theatredelaterre.org
SUMMARY:Monique Razorback
DESCRIPTION:
URL:https://theatredelaterre.org/actualite/monique-razorback/
LOCATION:l’ile de lexos\, l'usine 82330 Varen
CATEGORIES:monique razorback,spectacles
ATTACH;FMTTYPE=image/png:https://theatredelaterre.org/wp-content/uploads/2021/04/monique-razorback-accueil.png
END:VEVENT
BEGIN:VEVENT
DTSTART;TZID=Europe/Paris:20210618T203000
DTEND;TZID=Europe/Paris:20210618T223000
DTSTAMP:20260425T152752
CREATED:20210605T073313Z
LAST-MODIFIED:20210605T080231Z
UID:4380-1624048200-1624055400@theatredelaterre.org
SUMMARY:Entre 2 mondes
DESCRIPTION:Une création collective citoyenne. 7 acteurs \, 4 chœurs… 6 regards extérieurs en aide à la mise en scène\, intégration de la parole citoyenne . Interactivité avec le public …. »Entre 2 mondes » est un spectacle atypique: à travers l’histoire d’une tribu reconstituée\, c’est l’occasion d’évoquer tous les thèmes d’actualités que soulèvent la crise que nous traversons  …C’est aussi un grand cri d’amour \, un appel au changement…     Tous public – Durée : 1h20mn       \npour voir ou télécharger le programme    \n\nfb: Entre 2 mondes – Une création collective citoyenne\n\nPlus d’infos
URL:https://theatredelaterre.org/actualite/entre-2-mondes-4/
LOCATION:col de port\, col de port\, Boussenac\, occitanie\, 09320
CATEGORIES:entre 2 mondes,spectacles
ATTACH;FMTTYPE=image/jpeg:https://theatredelaterre.org/wp-content/uploads/2021/06/visuel-crea-collective.jpg
END:VEVENT
END:VCALENDAR